BEGIN:VCALENDAR
VERSION:2.0
PRODID:-//What&#039;s Going On In Charleston - ECPv6.15.20//NONSGML v1.0//EN
CALSCALE:GREGORIAN
METHOD:PUBLISH
X-WR-CALNAME:What&#039;s Going On In Charleston
X-ORIGINAL-URL:https://whatsgoingonincharleston.net
X-WR-CALDESC:Events for What&#039;s Going On In Charleston
REFRESH-INTERVAL;VALUE=DURATION:PT1H
X-Robots-Tag:noindex
X-PUBLISHED-TTL:PT1H
BEGIN:VTIMEZONE
TZID:America/New_York
BEGIN:DAYLIGHT
TZOFFSETFROM:-0500
TZOFFSETTO:-0400
TZNAME:EDT
DTSTART:20230312T070000
END:DAYLIGHT
BEGIN:STANDARD
TZOFFSETFROM:-0400
TZOFFSETTO:-0500
TZNAME:EST
DTSTART:20231105T060000
END:STANDARD
BEGIN:DAYLIGHT
TZOFFSETFROM:-0500
TZOFFSETTO:-0400
TZNAME:EDT
DTSTART:20240310T070000
END:DAYLIGHT
BEGIN:STANDARD
TZOFFSETFROM:-0400
TZOFFSETTO:-0500
TZNAME:EST
DTSTART:20241103T060000
END:STANDARD
BEGIN:DAYLIGHT
TZOFFSETFROM:-0500
TZOFFSETTO:-0400
TZNAME:EDT
DTSTART:20250309T070000
END:DAYLIGHT
BEGIN:STANDARD
TZOFFSETFROM:-0400
TZOFFSETTO:-0500
TZNAME:EST
DTSTART:20251102T060000
END:STANDARD
BEGIN:DAYLIGHT
TZOFFSETFROM:-0500
TZOFFSETTO:-0400
TZNAME:EDT
DTSTART:20260308T070000
END:DAYLIGHT
BEGIN:STANDARD
TZOFFSETFROM:-0400
TZOFFSETTO:-0500
TZNAME:EST
DTSTART:20261101T060000
END:STANDARD
END:VTIMEZONE
BEGIN:VEVENT
DTSTART;TZID=America/New_York:20240528T183000
DTEND;TZID=America/New_York:20250401T223000
DTSTAMP:20260422T052906
CREATED:20250331T174243Z
LAST-MODIFIED:20250331T174243Z
UID:4705-1716921000-1743546600@whatsgoingonincharleston.net
SUMMARY:Salsa Dance Night at Forte Jazz Lounge
DESCRIPTION:Salsa Dance Night with Instructor LaQuinn’s playlist is one of Forte’s most popular and fun nights.\n\n\nSalsa Dance Night with Instructor LaQuinn’s playlist is one of Forte’s most popular and fun nights. Tuesday night is fast becoming one of Forte’s most popular and fun nights to come out and socialize.  Charleston’s Favorite Salsa Instructor\, LaQuinn makes it fun and easy to learn the steps so you and your partner can dance the night away. Flying solo? Have no fear! This is a social dance and everyone dances with everyone. It’s a sure way to have some fun and learn some new steps from some new partners.
URL:https://whatsgoingonincharleston.net/event/salsa-dance-night-at-forte-jazz-lounge/
LOCATION:Forte Jazz Lounge\, 477 King Street\, Charleston\, SC 29403\, Charleston\, SC\, 29403\, US
ATTACH;FMTTYPE=image/png:https://whatsgoingonincharleston.net/wp-content/uploads/2024/12/2137_image.png
END:VEVENT
BEGIN:VEVENT
DTSTART;TZID=America/New_York:20250315T110000
DTEND;TZID=America/New_York:20250317T230000
DTSTAMP:20260422T052906
CREATED:20250220T090256Z
LAST-MODIFIED:20250220T090256Z
UID:3477-1742036400-1742252400@whatsgoingonincharleston.net
SUMMARY:12th Annual St. Paddy's Day Party at Shelter!
DESCRIPTION:St. Patrick’s Day is upon us and we’re hosting our 12th annual SPD party you won’t want to miss! Join us all weekend from 3/15-3/17 for the festivities. The dance party starts at 10pm on Saturday night with our DJ keeping the dance floor packed and our drink specials having you believe your Irish.  \n$4 Green beer$4 Bud Light 16oz$4 Irish Whiskey$4 Guinness$6 Car Bombs$2 Jell-O Shots2 for $10 Car Bombs \nLet’s get LUCKED up at the Shelter!
URL:https://whatsgoingonincharleston.net/event/12th-annual-st-paddys-day-party-at-shelter/
LOCATION:202 Coleman Blvd\, Mount Pleasant\, SC\, United States\, South Carolina 29464
CATEGORIES:Mt. Pleasant,St. Patricks Day
ORGANIZER;CN="The Shelter Kitchen + Bar":MAILTO:noreply@facebookmail.com
END:VEVENT
BEGIN:VEVENT
DTSTART;TZID=America/New_York:20250316T180000
DTEND;TZID=America/New_York:20250318T020000
DTSTAMP:20260422T052906
CREATED:20250313T214634Z
LAST-MODIFIED:20250313T214634Z
UID:3981-1742148000-1742263200@whatsgoingonincharleston.net
SUMMARY:St. Patrick's Day
DESCRIPTION:Get ready for a legendary St. Patrick’s celebration at Silver Dollar on March 16th and 17th! We’re bringing the Irish spirit all weekend long with $6 Jameson\, $6 Guinness\, and $12 car bombs to keep the party going. Whether you’re raising a pint of the black stuff or sipping on smooth whiskey\, we’ve got the perfect drinks to fuel your
URL:https://whatsgoingonincharleston.net/event/st-patricks-day-2/
LOCATION:478 King Street\, Charleston\, SC\, United States\, South Carolina 29403
CATEGORIES:Downtown Charleston,St. Patricks Day
ORGANIZER;CN="Silver Dollar":MAILTO:noreply@facebookmail.com
END:VEVENT
BEGIN:VEVENT
DTSTART;TZID=America/New_York:20250317T100000
DTEND;TZID=America/New_York:20250317T170000
DTSTAMP:20260422T052906
CREATED:20250314T080810Z
LAST-MODIFIED:20250314T080811Z
UID:4063-1742205600-1742230800@whatsgoingonincharleston.net
SUMMARY:Cloverleaf Classic
DESCRIPTION:
URL:https://whatsgoingonincharleston.net/event/cloverleaf-classic/
ATTACH;FMTTYPE=image/jpeg:https://whatsgoingonincharleston.net/wp-content/uploads/2025/03/1741632858_KqKIBZ59yxXBFoMo.jpeg
END:VEVENT
BEGIN:VEVENT
DTSTART;TZID=America/New_York:20250317T110000
DTEND;TZID=America/New_York:20250317T140000
DTSTAMP:20260422T052906
CREATED:20250313T170512Z
LAST-MODIFIED:20250313T170512Z
UID:3921-1742209200-1742220000@whatsgoingonincharleston.net
SUMMARY:🍀𝗦𝘁. 𝗣𝗮𝘁𝗿𝗶𝗰𝗸'𝘀 𝗗𝗮𝘆 𝟮𝟬𝟮𝟱🍀
DESCRIPTION:𝟭𝟯 𝘆𝗲𝗮𝗿𝘀 𝗼𝗳 𝗦𝘁. 𝗣𝗮𝘁𝗿𝗶𝗰𝗸’𝘀 𝗗𝗮𝘆𝘀!𝟭𝟯 𝘆𝗲𝗮𝗿𝘀 𝗼𝗳 𝗱𝗲𝗕𝗨𝗥𝗖𝗛𝗲𝗿𝘆!𝗟𝗲𝘁’𝘀 𝗱𝗿𝗶𝗻𝗸 𝘁𝗼 𝗧𝗛𝗔𝗧!🍀🍀🍀🍀🍀🍀🍀🍀🍀🍀🍀🍀🍀 \nWere gonna start the day off with a special Irish Brunch from 11am-3pm\, and then continue the day with Jameson specials\, give aways. This year\, will be the FIRST year you can get a Burchy on St. Paddys!  \n#WhyKnot celebrate the best little pub holiday in the best little pub in town? \n𝗗𝗿𝗶𝗻𝗸 𝗦𝗽𝗲𝗰𝗶𝗮𝗹𝘀 :❤️ $1 Jello Shots🧡 $3 Green Beer💛 $4 Jameson💚 $5 Guinness💙 $5 Irish Car Bomb💜 $5 Irish Ice Cream \n❤ #JamesonBar ❤*𝘄𝗶𝗹𝗹 𝗵𝗮𝘃𝗲 𝘀𝗽𝗲𝗰𝗶𝗮𝗹 𝗜𝗿𝗶𝘀𝗵 𝗺𝗲𝗻𝘂 𝗮𝗹𝗹 𝗱𝗮𝘆*𝗺𝘂𝘀𝘁 𝗯𝗲 𝟮𝟭 𝗮𝗳𝘁𝗲𝗿 𝟱𝗽𝗺*𝗺𝘂𝘀𝘁 𝘀𝗵𝗼𝘄 𝘃𝗮𝗹𝗶𝗱 𝗜𝗗 𝗮𝘁 𝘁𝗵𝗲 𝗱𝗼𝗼𝗿 \n#stpaddys2023 #knottycountdown #irish #summerville #summervillesc #supportlocal #theknot #irishish
URL:https://whatsgoingonincharleston.net/event/%f0%9f%8d%80%f0%9d%97%a6%f0%9d%98%81-%f0%9d%97%a3%f0%9d%97%ae%f0%9d%98%81%f0%9d%97%bf%f0%9d%97%b6%f0%9d%97%b0%f0%9d%97%b8%f0%9d%98%80-%f0%9d%97%97%f0%9d%97%ae%f0%9d%98%86-%f0%9d%9f%ae%f0%9d%9f%ac/
LOCATION:The Knot Burger Pub
CATEGORIES:St. Patricks Day,Summerville
ORGANIZER;CN="The Knot Burger Pub":MAILTO:noreply@facebookmail.com
END:VEVENT
BEGIN:VEVENT
DTSTART;TZID=America/New_York:20250317T180000
DTEND;TZID=America/New_York:20250317T190000
DTSTAMP:20260422T052906
CREATED:20250313T220826Z
LAST-MODIFIED:20250313T220826Z
UID:4001-1742234400-1742238000@whatsgoingonincharleston.net
SUMMARY:Spin Class @ The Refinery
DESCRIPTION:Hot Girl Cycle Club X The Refinery! Where spin class feels like a concert every class!\n\n\nSpin Class @ The Refinery \nCome join us for an energizing spin class at The Refinery! Get ready to sweat\, ride\, and vibe in this high-energy stationary cycling class. Concert venue meets spin! Whether you’re a seasoned cyclist or new to spinning\, this class is perfect for all fitness levels. \nHappy St. Pattys! Wear your Green!  \nWhat to bring: \nSpin shoes- If you dont have them\, no worries. We have rentals for $3. Just bring a form of ID. We willl return it when you drop off the shoes. \nWater – Stay hydrated Queens. We will have beverages to purchase. \nGood Vibes – Energy is contagious! Come ready to meet new friends. \n \nPlease arrive 15-20 minutes early to park and pick your bike. Seats are first come first serve. \n \nWe cannot wait to ride with you! \n \nxoxo \nKylie
URL:https://whatsgoingonincharleston.net/event/spin-class-the-refinery/
LOCATION:The Refinery
ATTACH;FMTTYPE=image/jpeg:https://whatsgoingonincharleston.net/wp-content/uploads/2025/03/4001_image-scaled.jpg
END:VEVENT
END:VCALENDAR