BEGIN:VCALENDAR
VERSION:2.0
PRODID:-//What&#039;s Going On In Charleston - ECPv6.15.20//NONSGML v1.0//EN
CALSCALE:GREGORIAN
METHOD:PUBLISH
X-ORIGINAL-URL:https://whatsgoingonincharleston.net
X-WR-CALDESC:Events for What&#039;s Going On In Charleston
REFRESH-INTERVAL;VALUE=DURATION:PT1H
X-Robots-Tag:noindex
X-PUBLISHED-TTL:PT1H
BEGIN:VTIMEZONE
TZID:America/New_York
BEGIN:DAYLIGHT
TZOFFSETFROM:-0500
TZOFFSETTO:-0400
TZNAME:EDT
DTSTART:20240310T070000
END:DAYLIGHT
BEGIN:STANDARD
TZOFFSETFROM:-0400
TZOFFSETTO:-0500
TZNAME:EST
DTSTART:20241103T060000
END:STANDARD
BEGIN:DAYLIGHT
TZOFFSETFROM:-0500
TZOFFSETTO:-0400
TZNAME:EDT
DTSTART:20250309T070000
END:DAYLIGHT
BEGIN:STANDARD
TZOFFSETFROM:-0400
TZOFFSETTO:-0500
TZNAME:EST
DTSTART:20251102T060000
END:STANDARD
BEGIN:DAYLIGHT
TZOFFSETFROM:-0500
TZOFFSETTO:-0400
TZNAME:EDT
DTSTART:20260308T070000
END:DAYLIGHT
BEGIN:STANDARD
TZOFFSETFROM:-0400
TZOFFSETTO:-0500
TZNAME:EST
DTSTART:20261101T060000
END:STANDARD
END:VTIMEZONE
BEGIN:VEVENT
DTSTART;TZID=America/New_York:20250803T120000
DTEND;TZID=America/New_York:20250807T210000
DTSTAMP:20260419T161354
CREATED:20250731T194227Z
LAST-MODIFIED:20250731T194227Z
UID:28455-1754222400-1754600400@whatsgoingonincharleston.net
SUMMARY:Teachers ax throw for free!
DESCRIPTION:HEY TEACHERS – It might suck to be you soon. Let us make it better. If you’re genuinely excited to go back\, come celebrate! Either way\, we got ya! Starting Sunday Aug 3rd through the 7
URL:https://whatsgoingonincharleston.net/event/teachers-ax-throw-for-free/
LOCATION:1077 East Montague Ave
ORGANIZER;CN="The Bearded Ax":MAILTO:noreply@facebookmail.com
END:VEVENT
BEGIN:VEVENT
DTSTART;TZID=America/New_York:20250805T100000
DTEND;TZID=America/New_York:20250805T140000
DTSTAMP:20260419T161354
CREATED:20250805T015046Z
LAST-MODIFIED:20250805T015046Z
UID:28576-1754388000-1754402400@whatsgoingonincharleston.net
SUMMARY:Berkeley Electric Job Fair
DESCRIPTION:Berkeley Electric is hosting a job fair at the Moncks Corner Headquarters August 5. Learn about job opportunities and benefits at Berkeley Electric and enjoy a free lunch dedicated to military veterans. Take advantage of professional coaching\, including resume help and interview skills\, and meet with community partners who will also be on site. Accessible parking is available.
URL:https://whatsgoingonincharleston.net/event/berkeley-electric-job-fair/
LOCATION:1732 US-52 West\, Moncks Corner\, SC\, United States\, South Carolina 29461
END:VEVENT
BEGIN:VEVENT
DTSTART;TZID=America/New_York:20250805T100000
DTEND;TZID=America/New_York:20250805T140000
DTSTAMP:20260419T161354
CREATED:20250805T015046Z
LAST-MODIFIED:20250805T015046Z
UID:28579-1754388000-1754402400@whatsgoingonincharleston.net
SUMMARY:Back to School Beauty Bash
DESCRIPTION:✂️ 𝕀𝕥’𝕤 𝕒 “𝔹𝕒𝕔𝕜 𝟚 𝕊𝕔𝕙𝕠𝕠𝕝 𝔹𝕖𝕒𝕦𝕥𝕪 𝔹𝕒𝕤𝕙” here at Kenneth Shuler Goose‼️AUGUST 5th✂️COME GET FREE HAIRCUT & MORE✂️#beautyschool#kennethshuler
URL:https://whatsgoingonincharleston.net/event/back-to-school-beauty-bash/
LOCATION:98 Davenport St\, Goose Creek\, SC 29445-6695\, United States
END:VEVENT
BEGIN:VEVENT
DTSTART;TZID=America/New_York:20250805T150000
DTEND;TZID=America/New_York:20250805T180000
DTSTAMP:20260419T161354
CREATED:20250805T015046Z
LAST-MODIFIED:20250805T015046Z
UID:28582-1754406000-1754416800@whatsgoingonincharleston.net
SUMMARY:Back to School haircuts
DESCRIPTION:Starts now! Schedule or walk-in! ONE FREE HAIRCUT A DAY #highlight #northcharleston  \nhttps://www.facebook.com/events/1897341214443350/?event_time_id=1897341251110013
URL:https://whatsgoingonincharleston.net/event/back-to-school-haircuts/
LOCATION:1020 E Montague ave\, North Charleston\, SC
END:VEVENT
BEGIN:VEVENT
DTSTART;TZID=America/New_York:20250805T160000
DTEND;TZID=America/New_York:20250805T170000
DTSTAMP:20260419T161354
CREATED:20250805T015046Z
LAST-MODIFIED:20250805T015046Z
UID:28585-1754409600-1754413200@whatsgoingonincharleston.net
SUMMARY:Back To School Drop In - Registered Families Only
DESCRIPTION:New students who are registered for the 2025-26 school year are encouraged to drop in on Tuesday\, August 5th\, between 4pm and 5pm to drop off supplies and meet your teachers. We are so excited for a new year with you!
URL:https://whatsgoingonincharleston.net/event/back-to-school-drop-in-registered-families-only/
LOCATION:3790 Ashley Phosphate Road\, North Charleston\, SC\, United States\, South Carolina 29418
END:VEVENT
BEGIN:VEVENT
DTSTART;TZID=America/New_York:20250805T170000
DTEND;TZID=America/New_York:20250805T190000
DTSTAMP:20260419T161354
CREATED:20250805T015046Z
LAST-MODIFIED:20250805T015046Z
UID:28588-1754413200-1754420400@whatsgoingonincharleston.net
SUMMARY:National Night Out
DESCRIPTION:Join us on August 5th for National Night Out!⁠⁠There’s something for everyone – food\, music\, demonstrations\, and more – so bring the whole family and enjoy a great evening with the <a href="http://community.⁠⁠No” target=”_blank” title=”community.⁠⁠No”>community.⁠⁠No registration needed. Just show up and have fun! 🎉
URL:https://whatsgoingonincharleston.net/event/national-night-out/
LOCATION:Gahagan Park
END:VEVENT
BEGIN:VEVENT
DTSTART;TZID=America/New_York:20250805T180000
DTEND;TZID=America/New_York:20250805T200000
DTSTAMP:20260419T161354
CREATED:20250805T015046Z
LAST-MODIFIED:20250805T015046Z
UID:28589-1754416800-1754424000@whatsgoingonincharleston.net
SUMMARY:National Night Out at Nexton
DESCRIPTION:This nationwide event is all about strengthening relationships between first responders and the communities they serve. It’s a celebration of partnership\, safety\, and good old-fashioned neighborly fun. This year’s event at Nexton is shaping up to be one for the memory <a href="http://books. \nWhat’s” target=”_blank” title=”books. \nWhat’s”>books. \nWhat’s in store: \n– Live music from The Green Levels– Food trucks including Lost Boys and Sunset Slush of Summerville– Balloon and tattoo artists for the kiddos– A visit from the Berkeley County Sheriff’s Office– Appearance from the local fire department – Build-your-own piggy bank craft from event sponsor CPM Federal Credit Union– And of course\, games and space to dance barefoot with neighbors \nWe’re also collecting school supplies to help stock the Teacher Supply Closet\, a great way to give back while having <a href="http://fun. \nNational” target=”_blank” title=”fun. \nNational”>fun. \nNational Night Out is more than just a party. It’s a chance to connect with neighbors\, thank our local first responders\, and show our support for the people who help keep Nexton safe and thriving. Whether you’re new to the neighborhood or a long-time resident\, this is one evening you won’t want to miss. So grab your family\, bring a blanket or chair\, and come enjoy an evening full of connection\, music\, and community <a href="http://pride. \n” target=”_blank” title=”pride. \n“>pride.
URL:https://whatsgoingonincharleston.net/event/national-night-out-at-nexton/
LOCATION:165 Midtown Ave\, Summerville\, SC 29486-2164\, United States
END:VEVENT
BEGIN:VEVENT
DTSTART;TZID=America/New_York:20250805T183000
DTEND;TZID=America/New_York:20250805T210000
DTSTAMP:20260419T161354
CREATED:20250805T015046Z
LAST-MODIFIED:20250805T015046Z
UID:28591-1754418600-1754427600@whatsgoingonincharleston.net
SUMMARY:LOWCOUNTRY SONGWRITERS OPEN MIC
DESCRIPTION:Join us for an unplugged song circle and open mic night featuring 10-minute performance slots\, a 20-minute featured performer – Eliza Novella\, and more open mic slots to close out the evening. Space is limited\, so arrive early to snag a spot on the list!
URL:https://whatsgoingonincharleston.net/event/lowcountry-songwriters-open-mic/
LOCATION:Public Works Art Center
END:VEVENT
BEGIN:VEVENT
DTSTART;TZID=America/New_York:20250805T183000
DTEND;TZID=America/New_York:20250805T210000
DTSTAMP:20260419T161354
CREATED:20250805T015046Z
LAST-MODIFIED:20250805T015046Z
UID:28594-1754418600-1754427600@whatsgoingonincharleston.net
SUMMARY:Her Dress (Summerville)
DESCRIPTION:Join us for our next sip and paint class at Wine and Tapas Bar in beautiful downtown Summerville. Reserve your seat at www.artwithandre.com. Our events are child friendly and food is available on the <a href="http://menu. \n” target=”_blank” title=”menu. \n“>menu.
URL:https://whatsgoingonincharleston.net/event/her-dress-summerville/
LOCATION:Wine & Tapas Bar
END:VEVENT
END:VCALENDAR