BEGIN:VCALENDAR
VERSION:2.0
PRODID:-//What&#039;s Going On In Charleston - ECPv6.15.20//NONSGML v1.0//EN
CALSCALE:GREGORIAN
METHOD:PUBLISH
X-WR-CALNAME:What&#039;s Going On In Charleston
X-ORIGINAL-URL:https://whatsgoingonincharleston.net
X-WR-CALDESC:Events for What&#039;s Going On In Charleston
REFRESH-INTERVAL;VALUE=DURATION:PT1H
X-Robots-Tag:noindex
X-PUBLISHED-TTL:PT1H
BEGIN:VTIMEZONE
TZID:America/New_York
BEGIN:DAYLIGHT
TZOFFSETFROM:-0500
TZOFFSETTO:-0400
TZNAME:EDT
DTSTART:20240310T070000
END:DAYLIGHT
BEGIN:STANDARD
TZOFFSETFROM:-0400
TZOFFSETTO:-0500
TZNAME:EST
DTSTART:20241103T060000
END:STANDARD
BEGIN:DAYLIGHT
TZOFFSETFROM:-0500
TZOFFSETTO:-0400
TZNAME:EDT
DTSTART:20250309T070000
END:DAYLIGHT
BEGIN:STANDARD
TZOFFSETFROM:-0400
TZOFFSETTO:-0500
TZNAME:EST
DTSTART:20251102T060000
END:STANDARD
BEGIN:DAYLIGHT
TZOFFSETFROM:-0500
TZOFFSETTO:-0400
TZNAME:EDT
DTSTART:20260308T070000
END:DAYLIGHT
BEGIN:STANDARD
TZOFFSETFROM:-0400
TZOFFSETTO:-0500
TZNAME:EST
DTSTART:20261101T060000
END:STANDARD
END:VTIMEZONE
BEGIN:VEVENT
DTSTART;TZID=America/New_York:20250808T110000
DTEND;TZID=America/New_York:20250808T140000
DTSTAMP:20260419T112717
CREATED:20250807T205527Z
LAST-MODIFIED:20250807T205527Z
UID:28796-1754650800-1754661600@whatsgoingonincharleston.net
SUMMARY:Food Truck Friday
DESCRIPTION:Food Truck Friday is back this week!  \nJoin us on Friday\, August 8\, from 11 AM to 2 PM at 300 W 2nd North St for lunch with VG’s Garlic Crabs & Seafood! Stop by\, grab a delicious bite\, and kick off the weekend with some great
URL:https://whatsgoingonincharleston.net/event/food-truck-friday-6/
LOCATION:300 West 2nd North Street\, Summerville\, SC\, United States\, South Carolina 29483
END:VEVENT
BEGIN:VEVENT
DTSTART;TZID=America/New_York:20250808T170000
DTEND;TZID=America/New_York:20250808T200000
DTSTAMP:20260419T112717
CREATED:20250807T205527Z
LAST-MODIFIED:20250807T205527Z
UID:28797-1754672400-1754683200@whatsgoingonincharleston.net
SUMMARY:Cane Bay Family YMCA Farmer's Market Day 1
DESCRIPTION:Join us for the Cane Bay Family YMCA Farmers Market 2025 on August 8 from 5 PM to 8 PM at Cane Bay YMCA\, located at 1655 Cane Bay Blvd\, Summerville\, SC 29486. Enjoy fresh produce\, local vendors\, and a vibrant community atmosphere. Brought to you by the YMCA and Cane Bay Farmers Market!
URL:https://whatsgoingonincharleston.net/event/cane-bay-family-ymca-farmers-market-day-1/
LOCATION:1655 Cane Bay Blvd\, Summerville\, SC 29486-2397\, United States
END:VEVENT
BEGIN:VEVENT
DTSTART;TZID=America/New_York:20250808T190000
DTEND;TZID=America/New_York:20250808T230000
DTSTAMP:20260419T112717
CREATED:20250807T205527Z
LAST-MODIFIED:20250807T205527Z
UID:28800-1754679600-1754694000@whatsgoingonincharleston.net
SUMMARY:National Pickleball Day -  Glow Night!!
DESCRIPTION:🎉✨ Glow Pickleball Night at Crush Yard Charleston! 🎾🌙We’re lighting up the courts for National Pickleball Day with an unforgettable night of neon fun! Join us Friday\, August 8 from 7–11PM for glow-in-the-dark games\, high-energy vibes\, and nonstop food. \n Whether you’re dinking in the dark or just here for the party\, it’s gonna be a bright night at Crush Yard. Let’s glow\, Charleston! 💥
URL:https://whatsgoingonincharleston.net/event/national-pickleball-day-glow-night/
LOCATION:3365 S. Morgans Point Rd.\, Mount Pleasant\, SC\, United States\, South Carolina 29466
ORGANIZER;CN="Crush Yard":MAILTO:noreply@facebookmail.com
END:VEVENT
BEGIN:VEVENT
DTSTART;TZID=America/New_York:20250808T200000
DTEND;TZID=America/New_York:20250808T230000
DTSTAMP:20260419T112717
CREATED:20250807T205527Z
LAST-MODIFIED:20250807T205527Z
UID:28801-1754683200-1754694000@whatsgoingonincharleston.net
SUMMARY:2nd Anniversary Party!
DESCRIPTION:The Peacock is turning 2 and you’re on the guest list!🦚✨ \nThis dazzling affair is cover-free and open to all\, no ticket required. From a build-your-own martini station and live saxophone vibes to a rooftop band and DJ-spun beats\, every floor of The Peacock will be alive with energy and
URL:https://whatsgoingonincharleston.net/event/2nd-anniversary-party/
LOCATION:213 East Bay Street\, Charleston\, SC
ORGANIZER;CN="noreply@facebookmail_com":MAILTO:noreply@facebookmail.com
END:VEVENT
BEGIN:VEVENT
DTSTART;TZID=America/New_York:20250808T200000
DTEND;TZID=America/New_York:20250808T230000
DTSTAMP:20260419T112717
CREATED:20250807T205527Z
LAST-MODIFIED:20250807T205527Z
UID:28803-1754683200-1754694000@whatsgoingonincharleston.net
SUMMARY:Rize of the D
DESCRIPTION:Tribute band for Tenaciuos D..Ticketed event
URL:https://whatsgoingonincharleston.net/event/rize-of-the-d/
LOCATION:Trolley Pub
ORGANIZER;CN="Trolley Pub":MAILTO:noreply@facebookmail.com
END:VEVENT
BEGIN:VEVENT
DTSTART;TZID=America/New_York:20250808T210000
DTEND;TZID=America/New_York:20250809T000000
DTSTAMP:20260419T112717
CREATED:20250807T205527Z
LAST-MODIFIED:20250807T205527Z
UID:28804-1754686800-1754697600@whatsgoingonincharleston.net
SUMMARY:Crespo - Trio - Charleston\, SC
DESCRIPTION:Doors open at 9:00 times.All sales are final. No discretion. \nFor tickets + VIP table reservations:
URL:https://whatsgoingonincharleston.net/event/crespo-trio-charleston-sc/
LOCATION:139 Calhoun St\, Charleston\, SC\, United States\, South Carolina 29401
END:VEVENT
END:VCALENDAR