BEGIN:VCALENDAR
VERSION:2.0
PRODID:-//What&#039;s Going On In Charleston - ECPv6.15.20//NONSGML v1.0//EN
CALSCALE:GREGORIAN
METHOD:PUBLISH
X-WR-CALNAME:What&#039;s Going On In Charleston
X-ORIGINAL-URL:https://whatsgoingonincharleston.net
X-WR-CALDESC:Events for What&#039;s Going On In Charleston
REFRESH-INTERVAL;VALUE=DURATION:PT1H
X-Robots-Tag:noindex
X-PUBLISHED-TTL:PT1H
BEGIN:VTIMEZONE
TZID:America/New_York
BEGIN:DAYLIGHT
TZOFFSETFROM:-0500
TZOFFSETTO:-0400
TZNAME:EDT
DTSTART:20240310T070000
END:DAYLIGHT
BEGIN:STANDARD
TZOFFSETFROM:-0400
TZOFFSETTO:-0500
TZNAME:EST
DTSTART:20241103T060000
END:STANDARD
BEGIN:DAYLIGHT
TZOFFSETFROM:-0500
TZOFFSETTO:-0400
TZNAME:EDT
DTSTART:20250309T070000
END:DAYLIGHT
BEGIN:STANDARD
TZOFFSETFROM:-0400
TZOFFSETTO:-0500
TZNAME:EST
DTSTART:20251102T060000
END:STANDARD
BEGIN:DAYLIGHT
TZOFFSETFROM:-0500
TZOFFSETTO:-0400
TZNAME:EDT
DTSTART:20260308T070000
END:DAYLIGHT
BEGIN:STANDARD
TZOFFSETFROM:-0400
TZOFFSETTO:-0500
TZNAME:EST
DTSTART:20261101T060000
END:STANDARD
END:VTIMEZONE
BEGIN:VEVENT
DTSTART;TZID=America/New_York:20250809T110000
DTEND;TZID=America/New_York:20250809T140000
DTSTAMP:20260419T095155
CREATED:20250805T015047Z
LAST-MODIFIED:20250805T015047Z
UID:28602-1754737200-1754748000@whatsgoingonincharleston.net
SUMMARY:Family Day at Top Dawg Tavern in Summerville!
DESCRIPTION:Mark your calendars! Top Dawg Tavern is excited to host our annual Family Day on Saturday\, August 9th! We’ll have a fun day of activities for families to enjoy during lunch from 11:00am – 2:00pm! \n* Meet & Greet with Spider-Man and Queen Elsa from Frozen for photographs and autographs* Coloring Contest* The Paint Pixie Face Painting* Carol’s Balloon Art \nPlus\, we have $6 Kids Meals available every day and they are served with a Kids Drink and Ice Cream!
URL:https://whatsgoingonincharleston.net/event/family-day-at-top-dawg-tavern-in-summerville/
LOCATION:Top Dawg Tavern – Summerville
ORGANIZER;CN="Top Dawg Tavern - Summerville":MAILTO:noreply@facebookmail.com
END:VEVENT
BEGIN:VEVENT
DTSTART;TZID=America/New_York:20250809T110000
DTEND;TZID=America/New_York:20250809T140000
DTSTAMP:20260419T095155
CREATED:20250805T015047Z
LAST-MODIFIED:20250805T015047Z
UID:28603-1754737200-1754748000@whatsgoingonincharleston.net
SUMMARY:𝗡𝗮𝘁𝗶𝗼𝗻𝗮𝗹 𝗖𝗵𝗶𝗰𝗸𝗲𝗻 𝗮𝗻𝗱 𝗪𝗮𝗳𝗳𝗹𝗲 {𝗖𝗼𝗻𝗲} 𝗗𝗮𝘆 🍗🧇
DESCRIPTION:🔥𝗪𝗵𝗲𝗻 𝘄𝗲 𝘀𝗮𝘆 “𝗰𝗼𝗺𝗳𝗼𝗿𝘁 𝗳𝗼𝗼𝗱” 𝘁𝗵𝗶𝘀 𝗶𝘀 𝘄𝗵𝗮𝘁 𝘄𝗲 𝗺𝗲𝗮𝗻🔥 \nHoly cluck! The Mac Daddy Burchy Cone is a crispy waffle cone STUFFED with creamy mac & cheese\, topped with fried chicken bites like we’re trying to fix your whole life in one <a href="http://bite. \n#chickenandwaffles” target=”_blank” title=”bite. \n#chickenandwaffles”>bite. \n#chickenandwaffles #wafflecone #nationalchickenandwafflesday #summervillesc #summervilleeats
URL:https://whatsgoingonincharleston.net/event/%f0%9d%97%a1%f0%9d%97%ae%f0%9d%98%81%f0%9d%97%b6%f0%9d%97%bc%f0%9d%97%bb%f0%9d%97%ae%f0%9d%97%b9-%f0%9d%97%96%f0%9d%97%b5%f0%9d%97%b6%f0%9d%97%b0%f0%9d%97%b8%f0%9d%97%b2%f0%9d%97%bb-%f0%9d%97%ae/
LOCATION:The Knot Burger Pub
ORGANIZER;CN="The Knot Burger Pub":MAILTO:noreply@facebookmail.com
END:VEVENT
BEGIN:VEVENT
DTSTART;TZID=America/New_York:20250809T110000
DTEND;TZID=America/New_York:20250809T140000
DTSTAMP:20260419T095155
CREATED:20250807T205527Z
LAST-MODIFIED:20250807T205527Z
UID:28805-1754737200-1754748000@whatsgoingonincharleston.net
SUMMARY:Sip & Pour- A Wine & Candle Experience
DESCRIPTION:🥂A Ticketed Event🥂On August 9th\, we’re bringing the vibes to Charleston with an exclusive Wine Tasting & Candle Pouring Experience you don’t want to miss! \nCandace Spann\, Abundant Life Restore is teaming up with Fermented Vines and Latasha Tavelle\, Charleston’s first Black woman sommelier\, for a day filled with smooth pours\, signature scents\, curated bites\, and dope it.Limited spots. Grab your seat now. Link in bio (eventbrite)
URL:https://whatsgoingonincharleston.net/event/sip-pour-a-wine-candle-experience/
LOCATION:North Charleston\, S.C.
END:VEVENT
BEGIN:VEVENT
DTSTART;TZID=America/New_York:20250809T113000
DTEND;TZID=America/New_York:20250809T220000
DTSTAMP:20260419T095155
CREATED:20250805T015047Z
LAST-MODIFIED:20250805T015047Z
UID:28604-1754739000-1754776800@whatsgoingonincharleston.net
SUMMARY:Nerdfest
DESCRIPTION:@chsnerdfest returns to Frothy August 9th! ⚔️🐲 Join us for a day filled with table top games\, cosplay contests\, arcade battles\, local vendors\, and plenty of food & drinks to fuel your quest. 🍕🍔🍻⁠⁠Bring your crew\, dress to impress\, and prepare for an adventure 🎲🕹️🍻⁠
URL:https://whatsgoingonincharleston.net/event/nerdfest/
LOCATION:1401 Sam Rittenberg Blvd Ste 1\, Charleston\, SC\, United States\, South Carolina 29407
ORGANIZER;CN="Frothy Beard Brewing Company":MAILTO:noreply@facebookmail.com
END:VEVENT
BEGIN:VEVENT
DTSTART;TZID=America/New_York:20250809T120000
DTEND;TZID=America/New_York:20250809T140000
DTSTAMP:20260419T095155
CREATED:20250807T205528Z
LAST-MODIFIED:20250807T205528Z
UID:28807-1754740800-1754748000@whatsgoingonincharleston.net
SUMMARY:Mommy & Me Back To School Party
DESCRIPTION:Join us for a Back-to-School Book Bag Decorating Party where kids can personalize their backpacks and get excited for the year
URL:https://whatsgoingonincharleston.net/event/mommy-me-back-to-school-party/
LOCATION:Dorchester Road Regional Library
END:VEVENT
BEGIN:VEVENT
DTSTART;TZID=America/New_York:20250809T120000
DTEND;TZID=America/New_York:20250809T150000
DTSTAMP:20260419T095155
CREATED:20250807T205528Z
LAST-MODIFIED:20250807T205528Z
UID:28809-1754740800-1754751600@whatsgoingonincharleston.net
SUMMARY:Hiring Event
DESCRIPTION:Open interviews Saturday August 9th\, 12pm – 3pm\, Carnes Crossroads Amenity Center (Lakehouse)\, 912 Carnes Crossing\, Summerville\, SC 29486.Interviewing for Assistant Manager\, Team Leads\, Full Time\, and Part
URL:https://whatsgoingonincharleston.net/event/hiring-event/
LOCATION:912 Carnes Crossing Blvd\, Summerville\, SC 29486\, United States
END:VEVENT
BEGIN:VEVENT
DTSTART;TZID=America/New_York:20250809T120000
DTEND;TZID=America/New_York:20250809T153000
DTSTAMP:20260419T095155
CREATED:20250807T205528Z
LAST-MODIFIED:20250807T205528Z
UID:28812-1754740800-1754753400@whatsgoingonincharleston.net
SUMMARY:Beauty Empowerment Workshop
DESCRIPTION:🎟️ Get Ready for the Ultimate Glow-Up!The Beauty Empowerment Workshop is HERE! \n✨ Join us for an unforgettable day of beauty\, confidence\, and empowerment at the beautiful Wyndham Garden Summerville! Whether you’re looking to upgrade your skincare game\, step into your power\, or connect with an uplifting community—you belong in this unstoppable. \n🌟 Featuring Special Guest Industry Experts!Get exclusive insights from top pros in skin care\, hair care\, and business—sharing the tools and insider knowledge to help you shine in every area of your movement.A day to refresh your spirit\, refine your look\, and reignite your YOU.
URL:https://whatsgoingonincharleston.net/event/beauty-empowerment-workshop/
LOCATION:Wyndham Garden Summerville – Summerville SC 29483
END:VEVENT
BEGIN:VEVENT
DTSTART;TZID=America/New_York:20250809T170000
DTEND;TZID=America/New_York:20250809T200000
DTSTAMP:20260419T095155
CREATED:20250807T205528Z
LAST-MODIFIED:20250807T205528Z
UID:28815-1754758800-1754769600@whatsgoingonincharleston.net
SUMMARY:Full Moon Party at Pinky's
DESCRIPTION:Join us Saturday\, August 9 for the first ever Full Moon Party at Pinky’s — where the Full Moon goes full send—with flames\, fam\, and big beach energy.  \nOur first (of many) parties at Pinky’s—and it’s straight fire. Spinning flames\, icy drinks\, and beats that’ll loosen up even your stiffest dance
URL:https://whatsgoingonincharleston.net/event/full-moon-party-at-pinkys/
LOCATION:1 Center St\, Folly Beach\, SC\, United States\, South Carolina 29439
END:VEVENT
BEGIN:VEVENT
DTSTART;TZID=America/New_York:20250809T170000
DTEND;TZID=America/New_York:20250809T200000
DTSTAMP:20260419T095155
CREATED:20250807T205528Z
LAST-MODIFIED:20250807T205528Z
UID:28816-1754758800-1754769600@whatsgoingonincharleston.net
SUMMARY:Mario Kart World Tournament
DESCRIPTION:The Switch 2 has arrived as well as Mario Kart World! Take part in an action packed first Mario Kart World Tournament! Enjoy a new console and game without having to purchase the whole thing yourself. We got you covered on that!Prizes to be awarded to the top 3 placements!Sign Up Here or at the venue:
URL:https://whatsgoingonincharleston.net/event/mario-kart-world-tournament-3/
LOCATION:8484 DORCHESTER RD\, Unit B\, North Charleston\, SC\, United States\, South Carolina 29420
ORGANIZER;CN="Reforged Gaming Lounge":MAILTO:noreply@facebookmail.com
END:VEVENT
BEGIN:VEVENT
DTSTART;TZID=America/New_York:20250809T180000
DTEND;TZID=America/New_York:20250809T210000
DTSTAMP:20260419T095155
CREATED:20250805T015047Z
LAST-MODIFIED:20250805T015047Z
UID:28605-1754762400-1754773200@whatsgoingonincharleston.net
SUMMARY:The Poetry Society Presents Amy Pence
DESCRIPTION:About the event \nWorkshop at 1:00\, reading at 6:00. All our readings are free and open to the public. We also Zoom our meetings so you can attend from <a href="http://anywhere. \nAuthor” target=”_blank” title=”anywhere. \nAuthor”>anywhere. \nAuthor Amy Pence’s work spans poetry\, hybrid\, fiction\, interviews\, and essays. Her full-length poetry collections include Armor\, Amour (Ninebark\, 2012) and The Decadent Lovely (Main Street Rag\, 2010). Her hybrid book\, [It] Incandescent (Ninebark Press\, 2018)\, winner of the Eyelands International Poetry Award in Athens\, Greece\, blends fiction\, poetry\, and scholarship. We Travel Towards It\, to be released in Spring 2025\, explores both loss and the necessary resilience and insight needed in the face of climate change-induced natural disasters. Her debut novel Yellow will be released by Red Hen Press in 2026. She has taught composition and poetry for many years\, including at Emory University\, and continues to tutor students in <a href="http://Atlanta. \nContrapuntal” target=”_blank” title=”Atlanta. \nContrapuntal”>Atlanta. \nContrapuntal EcoPoems: A Workshop with Amy Pence 1:00-3:00 \nThe contrapuntal poem weaves two or more columns or voicings into a single\, multi-layered piece. Just like contrapuntal music where melodies can overlap\, repeat\, counterpoint\, or even create disconnection\, the poem can be read vertically and across each line to reveal new layers of meaning. We’ll use the form to respond to data and/or descriptions of climate change/ natural disasters to explore our immersion in the natural <a href="http://world. \n” target=”_blank” title=”world. \n“>world.
URL:https://whatsgoingonincharleston.net/event/the-poetry-society-presents-amy-pence/
LOCATION:4 Archdale St\, Charleston\, SC 29401-1959\, United States
END:VEVENT
BEGIN:VEVENT
DTSTART;TZID=America/New_York:20250809T180000
DTEND;TZID=America/New_York:20250809T210000
DTSTAMP:20260419T095155
CREATED:20250807T205528Z
LAST-MODIFIED:20250807T205528Z
UID:28817-1754762400-1754773200@whatsgoingonincharleston.net
SUMMARY:Cypress Hill & Atmosphere: Dank Daze of Summer Tour
DESCRIPTION:Cypress Hill & Atmosphere are bringing the Dank Daze of Summer Tour with Lupe Fiasco and The Pharcyde to Firefly Distillery N. Charleston on Saturday\, August 9!  \nThis is an outdoor general admission venue. The show will take place rain or shine. All dates\, acts\, & ticket prices subject to change without notice. All tickets are subject to applicable service fees via all points of sale To reduce staff contact with guest belongings\, we have implemented the following bag policy: we will allow clear plastic\, vinyl or PVC tote bags no larger than 12 x 6 x 12 and/or small clutch bags (4.5 x 6.5) No lawn chairs allowed but blankets are welcome. No tents. No outside food or drink and no coolers. No pets. Children under the age of two are free. Ages two and older need a
URL:https://whatsgoingonincharleston.net/event/cypress-hill-atmosphere-dank-daze-of-summer-tour/
LOCATION:Firefly Distillery\, 4201 Spruill Avenue\, North Charleston\, SC 29405\, North Charleston\, SC\, 29405\, US
ORGANIZER;CN="Ticketmaster Events":MAILTO:noreply@facebookmail.com
END:VEVENT
BEGIN:VEVENT
DTSTART;TZID=America/New_York:20250809T183000
DTEND;TZID=America/New_York:20250809T203000
DTSTAMP:20260419T095155
CREATED:20250807T205528Z
LAST-MODIFIED:20250807T205528Z
UID:28818-1754764200-1754771400@whatsgoingonincharleston.net
SUMMARY:Inclusive Swim Night - August 9\, 2025
DESCRIPTION:free. \nRain Date: August 16 \nEvent Details \n– A paid chaperone is required for all programs. \n– Smoking\, vaping or tobacco use is
URL:https://whatsgoingonincharleston.net/event/inclusive-swim-night-august-9-2025/
LOCATION:West County Aquatic Center
ORGANIZER;CN="Charleston County Parks":MAILTO:noreply@facebookmail.com
END:VEVENT
BEGIN:VEVENT
DTSTART;TZID=America/New_York:20250809T200000
DTEND;TZID=America/New_York:20250809T230000
DTSTAMP:20260419T095155
CREATED:20250807T205528Z
LAST-MODIFIED:20250807T205528Z
UID:28819-1754769600-1754780400@whatsgoingonincharleston.net
SUMMARY:Disciple of the Garden - The Legacy of Chris Cornell
DESCRIPTION:Music Farm PresentsDisciple of the Garden: Tribute to Chris Cornell\, Soundgarden\, Audioslave \nSaturday\, August 9\, 2025DOORS: 7 PM | SHOW: 8 PMAll Ages \nTickets available at musicfarm.com or at the Charleston Music Hall Box Office open Thursday – Friday from 10AM to 3https://bit.ly/MFsignupInstagram: https://twitter.com/musicfarmTikTok:
URL:https://whatsgoingonincharleston.net/event/disciple-of-the-garden-the-legacy-of-chris-cornell/
LOCATION:Music Farm
ORGANIZER;CN="Ticketmaster Events":MAILTO:noreply@facebookmail.com
END:VEVENT
END:VCALENDAR