BEGIN:VCALENDAR
VERSION:2.0
PRODID:-//What&#039;s Going On In Charleston - ECPv6.15.20//NONSGML v1.0//EN
CALSCALE:GREGORIAN
METHOD:PUBLISH
X-WR-CALNAME:What&#039;s Going On In Charleston
X-ORIGINAL-URL:https://whatsgoingonincharleston.net
X-WR-CALDESC:Events for What&#039;s Going On In Charleston
REFRESH-INTERVAL;VALUE=DURATION:PT1H
X-Robots-Tag:noindex
X-PUBLISHED-TTL:PT1H
BEGIN:VTIMEZONE
TZID:America/New_York
BEGIN:DAYLIGHT
TZOFFSETFROM:-0500
TZOFFSETTO:-0400
TZNAME:EDT
DTSTART:20240310T070000
END:DAYLIGHT
BEGIN:STANDARD
TZOFFSETFROM:-0400
TZOFFSETTO:-0500
TZNAME:EST
DTSTART:20241103T060000
END:STANDARD
BEGIN:DAYLIGHT
TZOFFSETFROM:-0500
TZOFFSETTO:-0400
TZNAME:EDT
DTSTART:20250309T070000
END:DAYLIGHT
BEGIN:STANDARD
TZOFFSETFROM:-0400
TZOFFSETTO:-0500
TZNAME:EST
DTSTART:20251102T060000
END:STANDARD
BEGIN:DAYLIGHT
TZOFFSETFROM:-0500
TZOFFSETTO:-0400
TZNAME:EDT
DTSTART:20260308T070000
END:DAYLIGHT
BEGIN:STANDARD
TZOFFSETFROM:-0400
TZOFFSETTO:-0500
TZNAME:EST
DTSTART:20261101T060000
END:STANDARD
END:VTIMEZONE
BEGIN:VEVENT
DTSTART;TZID=America/New_York:20250810T103000
DTEND;TZID=America/New_York:20250810T130000
DTSTAMP:20260419T081100
CREATED:20250805T015047Z
LAST-MODIFIED:20250805T015047Z
UID:28608-1754821800-1754830800@whatsgoingonincharleston.net
SUMMARY:Back 2 School Sunday
DESCRIPTION:Join us for our Back 2 School Sunday. We are praying for all students and faculty! We will have a bounce house\, door prizes\, SCHOOL SUPPLIES!!! All FREE!!!
URL:https://whatsgoingonincharleston.net/event/back-2-school-sunday/
LOCATION:102 Old Trolley Rd\, Summerville\, SC\, United States\, South Carolina 29485
END:VEVENT
BEGIN:VEVENT
DTSTART;TZID=America/New_York:20250810T110000
DTEND;TZID=America/New_York:20250810T130000
DTSTAMP:20260419T081100
CREATED:20250807T205528Z
LAST-MODIFIED:20250807T205528Z
UID:28820-1754823600-1754830800@whatsgoingonincharleston.net
SUMMARY:Cooper River Cycles Dirt Patrol
DESCRIPTION:Come join us for our weekly ride.No Drop\, All Smiles \nhttps://www.facebook.com/events/1074039181358448/?event_time_id=1074039294691770
URL:https://whatsgoingonincharleston.net/event/cooper-river-cycles-dirt-patrol-3/
LOCATION:Wannamaker North Trail
ORGANIZER;CN="COOPER RIVER CYCLES":MAILTO:noreply@facebookmail.com
END:VEVENT
BEGIN:VEVENT
DTSTART;TZID=America/New_York:20250810T113000
DTEND;TZID=America/New_York:20250810T140000
DTSTAMP:20260419T081100
CREATED:20250807T205529Z
LAST-MODIFIED:20250807T205529Z
UID:28821-1754825400-1754834400@whatsgoingonincharleston.net
SUMMARY:Music Bingo Brunch
DESCRIPTION:Music Bingo is back! Join us on Sunday at the West Ashley Pub from 11:30am until 2pm. Study up on your favorite artists and songs and let’s get rocking! It’s FREE to play and always fun to win! \n*Keep an eye on our facebook page for future events!* \nhttps://www.facebook.com/events/1647202619209603/?event_time_id=1647202622542936
URL:https://whatsgoingonincharleston.net/event/music-bingo-brunch-4/
LOCATION:1124 Sam Rittenberg Blvd\, Charleston\, SC 29407
ORGANIZER;CN="Charleston Sports Pub":MAILTO:noreply@facebookmail.com
END:VEVENT
BEGIN:VEVENT
DTSTART;TZID=America/New_York:20250810T130000
DTEND;TZID=America/New_York:20250810T160000
DTSTAMP:20260419T081100
CREATED:20250805T015047Z
LAST-MODIFIED:20250805T015047Z
UID:28611-1754830800-1754841600@whatsgoingonincharleston.net
SUMMARY:2025 First Day Festival
DESCRIPTION:The City of Charleston is proud to host our annual back-to-school celebration that helps students start the year with the supplies and support they need to succeed! Families can experience FREE admission to the SC Aquarium during the event\, plus community resources\, fun\,and back-to-school readiness for all!
URL:https://whatsgoingonincharleston.net/event/2025-first-day-festival/
LOCATION:Gaillard Center & Liberty Square
END:VEVENT
BEGIN:VEVENT
DTSTART;TZID=America/New_York:20250810T130000
DTEND;TZID=America/New_York:20250810T200000
DTSTAMP:20260419T081100
CREATED:20250807T205529Z
LAST-MODIFIED:20250807T205529Z
UID:28822-1754830800-1754856000@whatsgoingonincharleston.net
SUMMARY:Back to School Rally
DESCRIPTION:It’s that time again! We’re proud to announce the 4th Annual Back to School Rally hosted by Liberty Hill Next Generation! 🎉 \n📅 Sunday\, August 10th\, 2025✂️ Haircuts & Styles: 10 AM – 5 PM🎒 Bookbag Giveaway & Activities: 2 PM – 5 PM \n📍 Felix Pinckney Community Center\, 4764 Hassell Ave\, North Charleston\, SC \nBring the kids out for a fun-filled day with:✨ FREE haircuts & hairstyles🎶 Music\, Food & Giveaways🎒 FREE bookbags & school supplies🏰 Jump Castle & Pool Party \nLet’s help our students head back to school feeling confident\, supported\, and ready to shine! \n📲 Like & Share to spread the word! \n#BackToSchoolRally #4thAnnual #CommunityStrong #SupportTheYouth #CharlestonEvents #LibertyHillNextGeneration
URL:https://whatsgoingonincharleston.net/event/back-to-school-rally/
LOCATION:Felix Pinckney Community Center
END:VEVENT
BEGIN:VEVENT
DTSTART;TZID=America/New_York:20250810T140000
DTEND;TZID=America/New_York:20250810T170000
DTSTAMP:20260419T081100
CREATED:20250807T205529Z
LAST-MODIFIED:20250807T205529Z
UID:28824-1754834400-1754845200@whatsgoingonincharleston.net
SUMMARY:GET TO THE POINT AND PARTY WITH A PURPOSE
DESCRIPTION:Get to the Point & Party With a Purpose is shaping up to be a dream event for foodies!Inspired by the spirit of Charleston’s culinary scene\, this will be a more intimate experience — limited to just 300 tickets! \n🎉 August 10 | Founders Hall at Charles Towne Landing🍹 Sips\, bites\, shopping\, live music\, VIP perks & more🎟️ Only 300 tickets available: Purchase now! molicious_crumbs.🎁Raffle baskets with amazing prizes🙋A few live auction items you won’t want to miss \n🎟️ General Admission is $75 for full event access from 2–5 PM on August 10th. Includes bites from @swigswinebbq\, @dashichs\, @marshhenmill\, @harvest_catering\, @rosemaryandryecatering\, @hegesrestaurant\, @crucatering\, @millersallday\, @teatogreenscatering\, @gilligansseafood\, @kingofpops \nDrinks from @catheaddistillery\, @lowtidebrewing\, @stonomarketandtomatoshedcafe\, @highwirechs\, @hamptonwater\, @wolfferwine\, @spritz\, @kiawah_wines\, @deepeddyvodka\, @charlestondistilling\, @herdprovisionschs\, @pairings. \nHere’s what awaits you:🧀 Charcuterie WALL goals — featuring artful cones by @charcuterie_happy_board🥂 Welcome pour from @noughtyaf to kick off the experience🏛️ Mingle in style inside the elegant study of Founders Hall🌸 Summer sips from @wolfferwine\, perfectly chilled and curated🍰 Decadent desserts by Chef @karacorbelle of @wildolive_johnsisland Cucina Italiana \nWhether you’re a wine lover\, foodie\, or just someone who loves good company and great taste — this one’s for you. ✨Enjoy this experience with early entry at 1pm for only $50 more! Check out the link in our bio for tickets and more info! \n✨ VIP Bourbon & Cigar Experience ✨Perfect for MEN and WOMEN!Indulge in the ultimate Southern escape — where bold flavors\, smooth sips\, and laid-back luxury relaxation.Experience this with early entry at 1pm for only $50 more! Check out the link in our bio for more info and tickets! \nWith fundraising elements supporting breast cancer warriors\, you’ll be partying with a purpose. 🥂💕 \n#GetToThePoint #PartyWithAPurpose #ThePointParty2025 #PinkDrinksAndPurpose
URL:https://whatsgoingonincharleston.net/event/get-to-the-point-and-party-with-a-purpose/
LOCATION:Founders Hall at  Charles Towne Landing
END:VEVENT
BEGIN:VEVENT
DTSTART;TZID=America/New_York:20250810T140000
DTEND;TZID=America/New_York:20250810T170000
DTSTAMP:20260419T081100
CREATED:20250807T205529Z
LAST-MODIFIED:20250807T205529Z
UID:28827-1754834400-1754845200@whatsgoingonincharleston.net
SUMMARY:Charleston Dance Center Open House | Season 26 Kickoff
DESCRIPTION:Charleston Dance Center is gearing up for our 26th season — and we want YOU to be a part of it! \nWe’ve spent the summer behind the scenes revamping our facility and streamlining our operations\, and we’re more excited than ever to share it all with
URL:https://whatsgoingonincharleston.net/event/charleston-dance-center-open-house-season-26-kickoff/
LOCATION:1757 Savannah Hwy\, Charleston\, SC\, United States\, South Carolina 29407
END:VEVENT
BEGIN:VEVENT
DTSTART;TZID=America/New_York:20250810T140000
DTEND;TZID=America/New_York:20250810T180000
DTSTAMP:20260419T081100
CREATED:20250411T025404Z
LAST-MODIFIED:20250411T025404Z
UID:5025-1754834400-1754848800@whatsgoingonincharleston.net
SUMMARY:Book Swap
DESCRIPTION:Here’s a fun way to pick up a new book and meet fellow book worms! \nEvery second Sunday of the month\, everyone is invited to bring a book to The Whale and swap it for another book on the table. While you’re here\, crack open your new book and enjoy a beer or glass of
URL:https://whatsgoingonincharleston.net/event/book-swap-5/
LOCATION:1640 North Meeting Street Rd\, Charleston\, SC\, United States\, South Carolina 29405
ORGANIZER;CN="The Whale CHS ":MAILTO:noreply@facebookmail.com
END:VEVENT
BEGIN:VEVENT
DTSTART;TZID=America/New_York:20250810T170000
DTEND;TZID=America/New_York:20250810T200000
DTSTAMP:20260419T081100
CREATED:20250807T205529Z
LAST-MODIFIED:20250807T205529Z
UID:28830-1754845200-1754856000@whatsgoingonincharleston.net
SUMMARY:Back-to-School Prayer Party!
DESCRIPTION:Join us for an all-campus-wide Prayer Party to pray and encourage all our kids and youth as they prepare for the 2025-26 school year. There will be prayer\, hot dogs\, and water Center. \nBe sure to bring lawn chairs and also a towel\, if you plan to get wet! \nSign up here:
URL:https://whatsgoingonincharleston.net/event/back-to-school-prayer-party/
LOCATION:417 Central Avenue\, Summerville\, SC\, United States\, South Carolina 29483
ORGANIZER;CN="Summerville Baptist":MAILTO:noreply@facebookmail.com
END:VEVENT
BEGIN:VEVENT
DTSTART;TZID=America/New_York:20250810T170000
DTEND;TZID=America/New_York:20250810T210000
DTSTAMP:20260419T081100
CREATED:20250807T205529Z
LAST-MODIFIED:20250807T205529Z
UID:28831-1754845200-1754859600@whatsgoingonincharleston.net
SUMMARY:Hops & Horsepower at Tideland Brewing
DESCRIPTION:Second Sunday is right around the corner! Get those rides shined up and cruise on up for a great time! Great food\, amazing beer & all the coolest cars/bikes/trucks in town! Can’t wait to see everybody!
URL:https://whatsgoingonincharleston.net/event/hops-horsepower-at-tideland-brewing-5/
LOCATION:Tideland Brewing
ORGANIZER;CN="Hops & Horsepower":MAILTO:noreply@facebookmail.com
END:VEVENT
BEGIN:VEVENT
DTSTART;TZID=America/New_York:20250810T200000
DTEND;TZID=America/New_York:20250810T230000
DTSTAMP:20260419T081100
CREATED:20250807T205529Z
LAST-MODIFIED:20250807T205529Z
UID:28832-1754856000-1754866800@whatsgoingonincharleston.net
SUMMARY:Barrington Levy w/ Special Guest Operation Irie
DESCRIPTION:Music Farm PresentsBarrington Levy \nSunday\, August 10\, 2025DOORS: 7:00 PM | SHOW: 8:00 PM \nAll AgesTickets available at musicfarm.com or at the Charleston Music Hall Box Office open Thursday – Friday from 10AM to 3https://bit.ly/MFsignupInstagram: https://twitter.com/musicfarmTikTok:
URL:https://whatsgoingonincharleston.net/event/barrington-levy-w-special-guest-operation-irie/
LOCATION:Music Farm
ORGANIZER;CN="Ticketmaster Events":MAILTO:noreply@facebookmail.com
END:VEVENT
BEGIN:VEVENT
DTSTART;TZID=America/New_York:20250810T203000
DTEND;TZID=America/New_York:20250810T233000
DTSTAMP:20260419T081100
CREATED:20250805T015048Z
LAST-MODIFIED:20250805T015048Z
UID:28613-1754857800-1754868600@whatsgoingonincharleston.net
SUMMARY:Live at Tin Roof in Charleston SC!!!
DESCRIPTION:The Hotter Than Hell Tour 2025 is Heating Up!!! \nSunday August 10thInternational Touring and SweetTone Recording Artist Memphis Lightning will be performing live at Tin Roof in Charleston SC!!! \nDoors Open 7pm Show Time 8:30pm10$ tickets available at the door \nYou don’t want to miss this explosive stage show\, high energy rock n roll\, the front porch\, cigar box guitars and more!!! \nOpening Act Albert & The Smoking Section will start the show off with a harder edge take on blues!!! \nLet’s Rock!!!
URL:https://whatsgoingonincharleston.net/event/live-at-tin-roof-in-charleston-sc/
LOCATION:Tin Roof
END:VEVENT
END:VCALENDAR