BEGIN:VCALENDAR
VERSION:2.0
PRODID:-//What&#039;s Going On In Charleston - ECPv6.15.20//NONSGML v1.0//EN
CALSCALE:GREGORIAN
METHOD:PUBLISH
X-ORIGINAL-URL:https://whatsgoingonincharleston.net
X-WR-CALDESC:Events for What&#039;s Going On In Charleston
REFRESH-INTERVAL;VALUE=DURATION:PT1H
X-Robots-Tag:noindex
X-PUBLISHED-TTL:PT1H
BEGIN:VTIMEZONE
TZID:America/New_York
BEGIN:DAYLIGHT
TZOFFSETFROM:-0500
TZOFFSETTO:-0400
TZNAME:EDT
DTSTART:20240310T070000
END:DAYLIGHT
BEGIN:STANDARD
TZOFFSETFROM:-0400
TZOFFSETTO:-0500
TZNAME:EST
DTSTART:20241103T060000
END:STANDARD
BEGIN:DAYLIGHT
TZOFFSETFROM:-0500
TZOFFSETTO:-0400
TZNAME:EDT
DTSTART:20250309T070000
END:DAYLIGHT
BEGIN:STANDARD
TZOFFSETFROM:-0400
TZOFFSETTO:-0500
TZNAME:EST
DTSTART:20251102T060000
END:STANDARD
BEGIN:DAYLIGHT
TZOFFSETFROM:-0500
TZOFFSETTO:-0400
TZNAME:EDT
DTSTART:20260308T070000
END:DAYLIGHT
BEGIN:STANDARD
TZOFFSETFROM:-0400
TZOFFSETTO:-0500
TZNAME:EST
DTSTART:20261101T060000
END:STANDARD
END:VTIMEZONE
BEGIN:VEVENT
DTSTART;TZID=America/New_York:20251212T000000
DTEND;TZID=America/New_York:20251212T210000
DTSTAMP:20260419T091100
CREATED:20251212T015045Z
LAST-MODIFIED:20251212T015045Z
UID:35342-1765497600-1765573200@whatsgoingonincharleston.net
SUMMARY:🎁🐾 𝐓𝐨𝐲𝐬 𝐅𝐔𝐑 𝐓𝐨𝐭𝐬 – 𝐃𝐨𝐧𝐚𝐭𝐢𝐨𝐧 𝐃𝐫𝐢𝐯𝐞 🐾🎁
DESCRIPTION:🎁🐾 𝐓𝐨𝐲𝐬 𝐅𝐔𝐑 𝐓𝐨𝐭𝐬 – 𝐃𝐨𝐧𝐚𝐭𝐢𝐨𝐧 𝐃𝐫𝐢𝐯𝐞 🐾🎁𝐃𝐞𝐜 𝟏 – 𝐃𝐞𝐜 𝟐𝟏 𝐚𝐭 𝐓𝐡𝐞 𝐁𝐫𝐨𝐤𝐞𝐧 𝐋𝐞𝐚𝐬𝐡 \nWe’re collecting goodies for pups in local shelters and rescues this holiday season\, and we’d love your help filling the <a href="http://bin. \n🦴” target=”_blank” title=”bin. \n🦴”>bin. \n🦴 𝐌𝐨𝐬𝐭-𝐧𝐞𝐞𝐝𝐞𝐝 𝐢𝐭𝐞𝐦𝐬:– Durable dog toys (KONG-style\, ropes\, balls – no stuffed toys with easy-to-rip stuffing\, if possible)– Sealed treats & training treats– Canned dog food & quality dry kibble– New or gently used blankets & towels– Collars\, leashes\, harnesses– Enrichment items (lick mats\, puzzle toys\, chews)– Poop bags & basic cleaning supplies (unscented wipes\, paper towels) \n𝐃𝐫𝐨𝐩 𝐝𝐨𝐧𝐚𝐭𝐢𝐨𝐧𝐬 𝐚𝐭 𝐭𝐡𝐞 𝐛𝐚𝐫 𝐃𝐞𝐜 𝟏–𝟐𝟏\, 𝐚𝐧𝐝 𝐰𝐞’𝐥𝐥 𝐝𝐞𝐥𝐢𝐯𝐞𝐫 𝐞𝐯𝐞𝐫𝐲𝐭𝐡𝐢𝐧𝐠 𝐭𝐨 𝐥𝐨𝐜𝐚𝐥 𝐬𝐡𝐞𝐥𝐭𝐞𝐫𝐬 𝐚𝐧𝐝 𝐫𝐞𝐬𝐜𝐮𝐞𝐬 𝐣𝐮𝐬𝐭 𝐢𝐧 𝐭𝐢𝐦𝐞 𝐟𝐨𝐫 𝐭𝐡𝐞 𝐡𝐨𝐥𝐢𝐝𝐚𝐲𝐬. 💚 \n#brokenleash #ToysFurTots #DogRescue #AdoptDontShop #CharlestonSC #NorthCharleston #DogFriendlyCharleston #SupportLocalRescue #HolidayDrive #ThingsToDoCHS \nhttps://www.facebook.com/events/915784584942915/?event_time_id=915784634942910
URL:https://whatsgoingonincharleston.net/event/%f0%9f%8e%81%f0%9f%90%be-%f0%9d%90%93%f0%9d%90%a8%f0%9d%90%b2%f0%9d%90%ac-%f0%9d%90%85%f0%9d%90%94%f0%9d%90%91-%f0%9d%90%93%f0%9d%90%a8%f0%9d%90%ad%f0%9d%90%ac-%f0%9d%90%83%f0%9d%90%a8/
LOCATION:8811 Old University Blvd\, North Charleston\, SC\, United States\, South Carolina 29406
ORGANIZER;CN="The Broken Leash%2C Inc":MAILTO:noreply@facebookmail.com
END:VEVENT
BEGIN:VEVENT
DTSTART;TZID=America/New_York:20251212T170000
DTEND;TZID=America/New_York:20251212T200000
DTSTAMP:20260419T091100
CREATED:20251204T015119Z
LAST-MODIFIED:20251204T015119Z
UID:34976-1765558800-1765569600@whatsgoingonincharleston.net
SUMMARY:Cane Bay Family YMCA Farmer's Market Day 5
DESCRIPTION:Join us for the Cane Bay Family YMCA Farmers Market 2025 on December 12 from 5 PM to 8 PM at Cane Bay YMCA\, located at 1655 Cane Bay Blvd\, Summerville\, SC 29486. Enjoy fresh produce\, local vendors\, and a vibrant community atmosphere. Brought to you by the YMCA and Cane Bay Farmers Market!
URL:https://whatsgoingonincharleston.net/event/cane-bay-family-ymca-farmers-market-day-5/
LOCATION:1655 Cane Bay Blvd\, Summerville\, SC 29486-2397\, United States
END:VEVENT
BEGIN:VEVENT
DTSTART;TZID=America/New_York:20251212T170000
DTEND;TZID=America/New_York:20251212T200000
DTSTAMP:20260419T091100
CREATED:20251212T015045Z
LAST-MODIFIED:20251212T015045Z
UID:35343-1765558800-1765569600@whatsgoingonincharleston.net
SUMMARY:AYCE Snowcrab Legs
DESCRIPTION:🦀🦀🦀Friday December 12th🦀🦀Limited seating. Reservations only!☎️call for reservations 843-388-4243
URL:https://whatsgoingonincharleston.net/event/ayce-snowcrab-legs/
LOCATION:Coach’s Canteen
END:VEVENT
BEGIN:VEVENT
DTSTART;TZID=America/New_York:20251212T180000
DTEND;TZID=America/New_York:20251212T220000
DTSTAMP:20260419T091100
CREATED:20251204T015119Z
LAST-MODIFIED:20251204T015119Z
UID:34977-1765562400-1765576800@whatsgoingonincharleston.net
SUMMARY:Krampusnacht - Night Market
DESCRIPTION:Forget the sugar-sweet cheer—at Wyrd Sisters\, we embrace the shadows of the season for a Krampusnacht market you won’t soon forget! \n🔥 What Awaits You:𝗧𝗵𝗲 𝗕𝗹𝗮𝗰𝗸 𝗠𝗮𝗿𝗸𝗲𝘁 𝗼𝗳 𝗬𝘂𝗹𝗲𝘁𝗶𝗱𝗲 𝗗𝗲𝗹𝗶𝗴𝗵𝘁𝘀: Over 20 Wyrd & Wonderful Vendors will set up shop under the oaks\, offering a darkly curated selection of unique crafts\, art\, books\, and clothing. Find the perfectly peculiar gifts your rotten little hearts truly desire! \n𝗔 𝗧𝗮𝘀𝘁𝗲 𝗼𝗳 𝘁𝗵𝗲 𝗡𝗲𝘁𝗵𝗲𝗿𝘄𝗼𝗿𝗹𝗱: Smashley’s Burger Bar will be slinging warm\, winter grub to fuel your festive <a href="http://mischief. \n𝗔” target=”_blank” title=”mischief. \n𝗔”>mischief. \n𝗔 𝗠𝘂𝗹𝗹𝗲𝗱 𝗬𝘂𝗹𝗲 𝗕𝗿𝗲𝘄: We’re releasing a one-time-only\, special Krampusnacht brew crafted just for this event. Be among the first to taste this sinister sip before it vanishes! \n⚠️𝗔 𝗪𝗮𝗿𝗻𝗶𝗻𝗴 𝗳𝗿𝗼𝗺 𝘁𝗵𝗲 𝗔𝗹𝗽𝘀…Krampus himself will be stalking the grounds! He’s not here for photos; he’s here to judge. So\, you better be on your worst—𝙖𝙝𝙚𝙢—best behavior. Don’t disappoint the dark one… or risk the switch! \nCome out and get wonderfully wicked with us!
URL:https://whatsgoingonincharleston.net/event/krampusnacht-night-market/
LOCATION:4840 Chateau Ave\, North Charleston\, SC\, United States\, South Carolina 29405
END:VEVENT
BEGIN:VEVENT
DTSTART;TZID=America/New_York:20251212T193000
DTEND;TZID=America/New_York:20251212T213000
DTSTAMP:20260419T091100
CREATED:20251212T015045Z
LAST-MODIFIED:20251212T015045Z
UID:35345-1765567800-1765575000@whatsgoingonincharleston.net
SUMMARY:A Christmas Story
DESCRIPTION:Charleston’s new family holiday tradition returns to the Queen Street Playhouse. Based on the beloved film of the same name\, this festive favorite follows young Ralphie’s quest for the perfect Christmas gift—a Red Ryder BB gun—and the unforgettable family moments that come with <a href="http://it. \nMake” target=”_blank” title=”it. \nMake”>it. \nMake your own holiday tradition with A Christmas Story at the Queen Street Playhouse Dec. 5 – 23. \nhttps://www.facebook.com/events/1493701605215941/?event_time_id=1493701628549272
URL:https://whatsgoingonincharleston.net/event/a-christmas-story/
LOCATION:20 Queen St\, Charleston\, SC\, United States\, South Carolina 29401
END:VEVENT
END:VCALENDAR