BEGIN:VCALENDAR
VERSION:2.0
PRODID:-//What&#039;s Going On In Charleston - ECPv6.15.20//NONSGML v1.0//EN
CALSCALE:GREGORIAN
METHOD:PUBLISH
X-WR-CALNAME:What&#039;s Going On In Charleston
X-ORIGINAL-URL:https://whatsgoingonincharleston.net
X-WR-CALDESC:Events for What&#039;s Going On In Charleston
REFRESH-INTERVAL;VALUE=DURATION:PT1H
X-Robots-Tag:noindex
X-PUBLISHED-TTL:PT1H
BEGIN:VTIMEZONE
TZID:America/New_York
BEGIN:DAYLIGHT
TZOFFSETFROM:-0500
TZOFFSETTO:-0400
TZNAME:EDT
DTSTART:20250309T070000
END:DAYLIGHT
BEGIN:STANDARD
TZOFFSETFROM:-0400
TZOFFSETTO:-0500
TZNAME:EST
DTSTART:20251102T060000
END:STANDARD
BEGIN:DAYLIGHT
TZOFFSETFROM:-0500
TZOFFSETTO:-0400
TZNAME:EDT
DTSTART:20260308T070000
END:DAYLIGHT
BEGIN:STANDARD
TZOFFSETFROM:-0400
TZOFFSETTO:-0500
TZNAME:EST
DTSTART:20261101T060000
END:STANDARD
BEGIN:DAYLIGHT
TZOFFSETFROM:-0500
TZOFFSETTO:-0400
TZNAME:EDT
DTSTART:20270314T070000
END:DAYLIGHT
BEGIN:STANDARD
TZOFFSETFROM:-0400
TZOFFSETTO:-0500
TZNAME:EST
DTSTART:20271107T060000
END:STANDARD
END:VTIMEZONE
BEGIN:VEVENT
DTSTART;TZID=America/New_York:20260420T110000
DTEND;TZID=America/New_York:20260426T220000
DTSTAMP:20260422T011322
CREATED:20260402T015121Z
LAST-MODIFIED:20260402T015121Z
UID:40138-1776682800-1777240800@whatsgoingonincharleston.net
SUMMARY:Charleston Cocktail Week
DESCRIPTION:Join us for the 5th Annual Charleston Cocktail Week! \nCocktail Week is a week-long festival of cocktails showcasing Charleston’s best bars and restaurants. During CCW\, pass holders may visit any participating Cocktail Week venue during open business hours in any sequence at any time – and revisit as many as they’d like – to enjoy discounted signature cocktails and at select locations\, specialty appetizer <a href="http://pairings. \nWhether” target=”_blank” title=”pairings. \nWhether”>pairings. \nWhether you want to savor a signature cocktail one evening or enjoy a multi-day cocktail excursion around the city\, the Cocktail Week Pass is the perfect ticket to explore the cocktails of the <a href="http://city. \nUpon” target=”_blank” title=”city. \nUpon”>city. \nUpon arrival at a participating venue\, inform them that you are part of Cocktail Week\, show them your CCW Pass\, then enjoy your specialty priced signature cocktail! If you plan to stay for an appetizer or meal we encourage you to make a reservation in advance to ensure the participating venue will have a table (especially Wednesday-Sunday). \nCocktail Week Passes are open for purchase now and throughout the event (while they last)! Early Bird Passes are $13 per person and after March 15th\, they are the regular price of $15. Cocktail Week Passes can be purchased at<a href="https://charlestoncocktailweek.org/ \n” target=”_blank” title=”https://charlestoncocktailweek.org/ \n“>https://charlestoncocktailweek.org/
URL:https://whatsgoingonincharleston.net/event/charleston-cocktail-week-2/
LOCATION:King St\, Charleston\, SC 29401\, United States
ORGANIZER;CN="noreply@facebookmail_com":MAILTO:noreply@facebookmail.com
END:VEVENT
BEGIN:VEVENT
DTSTART;TZID=America/New_York:20260422T190000
DTEND;TZID=America/New_York:20260422T220000
DTSTAMP:20260422T011322
CREATED:20250425T045128Z
LAST-MODIFIED:20260417T044505Z
UID:6244-1776884400-1776895200@whatsgoingonincharleston.net
SUMMARY:Trivia with Publik Eduction
DESCRIPTION:Trivia night every Wednesday hosted by Public Eduction 7:00-9:00PM\nPrizes for first\, second\, and third place winners!\n\n\nTrivia night every Wednesday hosted by Public Eduction 7:00-9:00PM \nPrizes for first\, second\, and third place winners!
URL:https://whatsgoingonincharleston.net/event/trivia-with-publik-eduction-58/
LOCATION:3365 S Morgans Point Rd\, 3365 South Morgans Point Road\, Mount Pleasant\, SC 29466\, Mount Pleasant\, SC\, 29466\, US
CATEGORIES:Mt. Pleasant
ATTACH;FMTTYPE=image/jpeg:https://whatsgoingonincharleston.net/wp-content/uploads/2025/04/5903_image.jpg
END:VEVENT
BEGIN:VEVENT
DTSTART;TZID=America/New_York:20260422T190000
DTEND;TZID=America/New_York:20260422T220000
DTSTAMP:20260422T011322
CREATED:20260116T001554Z
LAST-MODIFIED:20260417T001606Z
UID:36654-1776884400-1776895200@whatsgoingonincharleston.net
SUMMARY:Brett Belanger Trio - Instrumental Jazz Series
DESCRIPTION:Join us every Wednesday for an amazing jazz set performed by Charleston’s best.\n\n\nBrett Belanger is a highly accomplished and sought after bassist. He leads this trio of A-list musicians\, Abdiel Iriarte on Piano and Ron Wiltrout on Drums. They cover great American Jazz Standards as well as more contemporary material from the Bebop era. From time time\, they include some of their own compositions. Come in for a relaxing night listening to great performances.
URL:https://whatsgoingonincharleston.net/event/brett-belanger-trio-instrumental-jazz-series-12/
LOCATION:Forte Jazz Lounge\, 477 King Street\, Charleston\, SC 29403\, Charleston\, SC\, 29403\, US
CATEGORIES:Downtown Charleston,Live Band
ATTACH;FMTTYPE=image/jpeg:https://whatsgoingonincharleston.net/wp-content/uploads/2025/07/26873_image.jpg
END:VEVENT
BEGIN:VEVENT
DTSTART;TZID=America/New_York:20260422T193000
DTEND;TZID=America/New_York:20260422T223000
DTSTAMP:20260422T011322
CREATED:20260402T015122Z
LAST-MODIFIED:20260402T015122Z
UID:40141-1776886200-1776897000@whatsgoingonincharleston.net
SUMMARY:Styx
DESCRIPTION:All guests ages 2 & above require a ticket for entry. A clear bag policy is in effect for all events at the Coliseum and Performing Arts Center. For more information on this policy including size guidelines please visit our website at <a href="http://www.northcharlestoncoliseumpac.com. \nSale” target=”_blank” title=”www.northcharlestoncoliseumpac.com. \nSale”>www.northcharlestoncoliseumpac.com. \nSale Dates and Times: \nPublic Onsale : Fri\, 30 Jan 2026 at 10:00 AM \nFan Club Presale : Thu\, 29 Jan 2026 at 10:00 AM \nLocal Presale : Thu\, 29 Jan 2026 at 10:00 AM \nVIP Package Presale : Thu\, 29 Jan 2026 at 10:00 AM \nVIP Package Onsale : Fri\, 30 Jan 2026 at 10:00 AM
URL:https://whatsgoingonincharleston.net/event/styx/
LOCATION:North Charleston Coliseum and Performing Arts Center
ORGANIZER;CN="Ticketmaster Events":MAILTO:noreply@facebookmail.com
END:VEVENT
BEGIN:VEVENT
DTSTART;TZID=America/New_York:20260422T210000
DTEND;TZID=America/New_York:20260422T233000
DTSTAMP:20260422T011322
CREATED:20260120T224626Z
LAST-MODIFIED:20260421T224606Z
UID:36972-1776891600-1776900600@whatsgoingonincharleston.net
SUMMARY:Soul Nite at The Burgundy Lounge
DESCRIPTION:Live music every Wednesday night– Never a Cover\, Always a Vibe\n\n\nThe Burgundy Lounge presents Soul Nite featuring some of Charleston’s best musical acts\, like Bill Wilson & The Ingredients\, Jeff Caldwell\, Kanika Moore and more. Expect a night of classic soul\, tight grooves\, and spirited performances from two favorites on the local scene. \nThe show takes place in the intimate setting of The Starlight Motor Inn\, a neighborhood spot with a relaxed vibe.
URL:https://whatsgoingonincharleston.net/event/soul-nite-at-the-burgundy-lounge-14/
LOCATION:The Starlight Motor Inn\, 3245 Rivers Avenue\, North Charleston\, SC 29405\, North Charleston\, SC\, 29405\, US
ATTACH;FMTTYPE=image/png:https://whatsgoingonincharleston.net/wp-content/uploads/2026/01/36959_image.png
END:VEVENT
END:VCALENDAR