BEGIN:VCALENDAR
VERSION:2.0
PRODID:-//What&#039;s Going On In Charleston - ECPv6.15.20//NONSGML v1.0//EN
CALSCALE:GREGORIAN
METHOD:PUBLISH
X-ORIGINAL-URL:https://whatsgoingonincharleston.net
X-WR-CALDESC:Events for What&#039;s Going On In Charleston
REFRESH-INTERVAL;VALUE=DURATION:PT1H
X-Robots-Tag:noindex
X-PUBLISHED-TTL:PT1H
BEGIN:VTIMEZONE
TZID:America/New_York
BEGIN:DAYLIGHT
TZOFFSETFROM:-0500
TZOFFSETTO:-0400
TZNAME:EDT
DTSTART:20240310T070000
END:DAYLIGHT
BEGIN:STANDARD
TZOFFSETFROM:-0400
TZOFFSETTO:-0500
TZNAME:EST
DTSTART:20241103T060000
END:STANDARD
BEGIN:DAYLIGHT
TZOFFSETFROM:-0500
TZOFFSETTO:-0400
TZNAME:EDT
DTSTART:20250309T070000
END:DAYLIGHT
BEGIN:STANDARD
TZOFFSETFROM:-0400
TZOFFSETTO:-0500
TZNAME:EST
DTSTART:20251102T060000
END:STANDARD
BEGIN:DAYLIGHT
TZOFFSETFROM:-0500
TZOFFSETTO:-0400
TZNAME:EDT
DTSTART:20260308T070000
END:DAYLIGHT
BEGIN:STANDARD
TZOFFSETFROM:-0400
TZOFFSETTO:-0500
TZNAME:EST
DTSTART:20261101T060000
END:STANDARD
END:VTIMEZONE
BEGIN:VEVENT
DTSTART;TZID=America/New_York:20250125T120000
DTEND;TZID=America/New_York:20250125T150000
DTSTAMP:20260420T025417
CREATED:20250124T072700Z
LAST-MODIFIED:20250124T072700Z
UID:2600-1737806400-1737817200@whatsgoingonincharleston.net
SUMMARY:BRS 2025 Kickoff Party + Pet Adoption Event | SC Brewery Running Series
DESCRIPTION:Let’s kick it! Join us for our 2025 kickoff party Sat\, Jan. 25 at Charles Towne Fermentory Garden. Free to attend. RSVP required.\n\n\n\nWe are the SC Brewery Running Series® and we run for beer!\n \nWe’ve got a full line up of fun run events at some of South Carolina’s best breweries and taprooms. \nIt all starts with a party: \n \nJoin us Saturday\, January 25th from 12 – 3PM @ Charles Towne Fermentory Garden to celebrate the start of our 2025 SC Brewery Running Series event season. Charleston Animal Society will be on hand with some adorable pets up for adoption!\nRSVP for this FREE event and get: \n\n10-50% off 2025 Event Registrations and VIP Packages\n$1 off all pints from Charles Towne Fermentory\nFree beer tokens when you sign up for multiple events*\nA chance to win sweet giveaways from our partners and sponsors\nAnd more!\n\nWhether you’ve been running with us since the beginning\, or you just found out about us – we are so excited to run far and drink local with you this season. Life is BREWtiful! \n\n\nIMPORTANT NOTES:\n\nThis event is free to attend\, but RSVP is required\nYou do not need to be 21 to attend this event\, but you must be 21+ to enjoy the beer\nThis event will flow like an open house between 12:00 – 3:00 p.m. Come when you’re able\, stay as long as you wish! $1.00 off all CTF pints until 3:00 p.m.!\nThis event offers the best Brewery Running Series registration deals of the season with no added event fees. We will be onsite to help answer questions about our 2025 Events and Registration Packages.\nWe will draw names for giveaways towards the end of the event (approx 2:30). Must be present to win!\n\nKeep an eye out! You will receive a detailed email with everything you need to know closer to the event. \n\n\nSnag this awesome T-shirt for $30 and we’ll donate 50% of the proceeds to Charleston Animal Society! Just choose the ‘RSVP + T-Shirt’ option at checkout!\n\n\n\n2025 South Carlolina Brewery Running Series schedule:
URL:https://whatsgoingonincharleston.net/event/brs-2025-kickoff-party-pet-adoption-event-sc-brewery-running-series/
LOCATION:The Garden by Charles Towne Fermentory\, 1331 Ashley River Road\, Charleston\, SC 29407\, Charleston\, SC\, 29407\, US
CATEGORIES:Animals/Pets,Fitness
ATTACH;FMTTYPE=image/jpeg:https://whatsgoingonincharleston.net/wp-content/uploads/2025/01/2600_image.jpg
END:VEVENT
END:VCALENDAR