BEGIN:VCALENDAR
VERSION:2.0
PRODID:-//What&#039;s Going On In Charleston - ECPv6.15.20//NONSGML v1.0//EN
CALSCALE:GREGORIAN
METHOD:PUBLISH
X-WR-CALNAME:What&#039;s Going On In Charleston
X-ORIGINAL-URL:https://whatsgoingonincharleston.net
X-WR-CALDESC:Events for What&#039;s Going On In Charleston
REFRESH-INTERVAL;VALUE=DURATION:PT1H
X-Robots-Tag:noindex
X-PUBLISHED-TTL:PT1H
BEGIN:VTIMEZONE
TZID:America/New_York
BEGIN:DAYLIGHT
TZOFFSETFROM:-0500
TZOFFSETTO:-0400
TZNAME:EDT
DTSTART:20240310T070000
END:DAYLIGHT
BEGIN:STANDARD
TZOFFSETFROM:-0400
TZOFFSETTO:-0500
TZNAME:EST
DTSTART:20241103T060000
END:STANDARD
BEGIN:DAYLIGHT
TZOFFSETFROM:-0500
TZOFFSETTO:-0400
TZNAME:EDT
DTSTART:20250309T070000
END:DAYLIGHT
BEGIN:STANDARD
TZOFFSETFROM:-0400
TZOFFSETTO:-0500
TZNAME:EST
DTSTART:20251102T060000
END:STANDARD
BEGIN:DAYLIGHT
TZOFFSETFROM:-0500
TZOFFSETTO:-0400
TZNAME:EDT
DTSTART:20260308T070000
END:DAYLIGHT
BEGIN:STANDARD
TZOFFSETFROM:-0400
TZOFFSETTO:-0500
TZNAME:EST
DTSTART:20261101T060000
END:STANDARD
END:VTIMEZONE
BEGIN:VEVENT
DTSTART;TZID=America/New_York:20250222T140000
DTEND;TZID=America/New_York:20250222T170000
DTSTAMP:20260421T054223
CREATED:20250220T040442Z
LAST-MODIFIED:20250220T040442Z
UID:3367-1740232800-1740243600@whatsgoingonincharleston.net
SUMMARY:Woof You Be Mine Adoption Event
DESCRIPTION:Join us at the Woof You Be Mine Adoption Event to find your furry soulmate and give a shelter pet a forever home! \nWelcome to the Woof You Be Mine Adoption Event !Come join us at 145 Calhoun St Unit 301 for a day filled with furry friends looking for their forever homes and themed cocktails for a cause! Our event will feature adorable pups\, ready to steal your heart. Whether you’re looking for a playful pup or a cuddly companion\, or just come enjoy themed cocktails and help a pup find their furever home! A percentage of RITUAL bar sales will be donated to CHS animal society!Don’t miss this opportunity to make a difference in a rescue dog’s life and find your new best friend. See you there!
URL:https://whatsgoingonincharleston.net/event/woof-you-be-mine-adoption-event/
LOCATION:145 Calhoun Street\,Charleston\,29401\,US
CATEGORIES:Animals/Pets,Downtown Charleston
ORGANIZER;CN="Eventbrite":MAILTO:noreply@facebookmail.com
END:VEVENT
END:VCALENDAR