BEGIN:VCALENDAR
VERSION:2.0
PRODID:-//What&#039;s Going On In Charleston - ECPv6.15.20//NONSGML v1.0//EN
CALSCALE:GREGORIAN
METHOD:PUBLISH
X-ORIGINAL-URL:https://whatsgoingonincharleston.net
X-WR-CALDESC:Events for What&#039;s Going On In Charleston
REFRESH-INTERVAL;VALUE=DURATION:PT1H
X-Robots-Tag:noindex
X-PUBLISHED-TTL:PT1H
BEGIN:VTIMEZONE
TZID:America/New_York
BEGIN:DAYLIGHT
TZOFFSETFROM:-0500
TZOFFSETTO:-0400
TZNAME:EDT
DTSTART:20240310T070000
END:DAYLIGHT
BEGIN:STANDARD
TZOFFSETFROM:-0400
TZOFFSETTO:-0500
TZNAME:EST
DTSTART:20241103T060000
END:STANDARD
BEGIN:DAYLIGHT
TZOFFSETFROM:-0500
TZOFFSETTO:-0400
TZNAME:EDT
DTSTART:20250309T070000
END:DAYLIGHT
BEGIN:STANDARD
TZOFFSETFROM:-0400
TZOFFSETTO:-0500
TZNAME:EST
DTSTART:20251102T060000
END:STANDARD
BEGIN:DAYLIGHT
TZOFFSETFROM:-0500
TZOFFSETTO:-0400
TZNAME:EDT
DTSTART:20260308T070000
END:DAYLIGHT
BEGIN:STANDARD
TZOFFSETFROM:-0400
TZOFFSETTO:-0500
TZNAME:EST
DTSTART:20261101T060000
END:STANDARD
END:VTIMEZONE
BEGIN:VEVENT
DTSTART;TZID=America/New_York:20250208T130000
DTEND;TZID=America/New_York:20250208T160000
DTSTAMP:20260423T160028
CREATED:20250130T091556Z
LAST-MODIFIED:20250130T091556Z
UID:2999-1739019600-1739030400@whatsgoingonincharleston.net
SUMMARY:BWC Wine & Galentine’s
DESCRIPTION:Join us for an unforgettable evening of laughter\, sisterhood\, and celebration at our Galentine’s Wine Soiree — a special event created for Black Women to unwind\, connect\, and honor the beauty of friendship. Sip on a curated selection of fine wines\, enjoy delectable bites\, and indulge in thoughtful conversations as we come together to embrace the joy of https://my.cheddarup.com/c/bwc-wine-galentine-s
URL:https://whatsgoingonincharleston.net/event/bwc-wine-galentines/
LOCATION:Accent on Wine Whitehall
CATEGORIES:Wine Tasting,Women's Events
ORGANIZER;CN="Shae Black":MAILTO:noreply@facebookmail.com
END:VEVENT
BEGIN:VEVENT
DTSTART;TZID=America/New_York:20250220T180000
DTEND;TZID=America/New_York:20250220T210000
DTSTAMP:20260423T160028
CREATED:20250219T223655Z
LAST-MODIFIED:20250219T223655Z
UID:3304-1740074400-1740085200@whatsgoingonincharleston.net
SUMMARY:Galentines dinner - Taco and margs night
DESCRIPTION:Get ready for a fun Galentine’s dinner filled with delicious tacos\, refreshing margaritas\, and great company! $5 to reserve your seat\n\n\nGalentines dinner – Taco and margs night \nCome join us for a fun-filled evening at Villa Cantina for our Galentines dinner event! Get ready to indulge in delicious tacos and refreshing margaritas while celebrating friendship and good times. This in-person event is the perfect way to spend quality time with your gal pals. Don’t miss out on this fantastic opportunity to enjoy great food and drinks in a vibrant atmosphere. Grab your friends and let’s taco ’bout how awesome this night is going to be! $5 reservation fee to secure your seat  since this is a sit down restaurant.
URL:https://whatsgoingonincharleston.net/event/galentines-dinner-taco-and-margs-night/
LOCATION:Villa Cantina\, 1940 Sam Rittenberg Boulevard\, Charleston\, SC 29407\, Charleston\, SC\, 29407\, US
CATEGORIES:Women's Events
ATTACH;FMTTYPE=image/png:https://whatsgoingonincharleston.net/wp-content/uploads/2025/02/3304_image.png
END:VEVENT
BEGIN:VEVENT
DTSTART;TZID=America/New_York:20250221T191500
DTEND;TZID=America/New_York:20250221T221500
DTSTAMP:20260423T160028
CREATED:20250130T091749Z
LAST-MODIFIED:20250130T091749Z
UID:3002-1740165300-1740176100@whatsgoingonincharleston.net
SUMMARY:Pole Dance Class at Goddess Dance Studio
DESCRIPTION:Come and join us for some fun at a private pole dance class for our Fitness Madness Event!  \nThings to know: \n1 hour classNo disposable water bottlesWear a tank top and shorts if possiblePlease wear socks\, ballet slippers\, sneakers\, or heels. Feel free to bring a hand towel and a yoga mat!
URL:https://whatsgoingonincharleston.net/event/pole-dance-class-at-goddess-dance-studio/
LOCATION:Goddess Dance Studio
CATEGORIES:Ladson,Women's Events
ORGANIZER;CN="Shae Black":MAILTO:noreply@facebookmail.com
END:VEVENT
BEGIN:VEVENT
DTSTART;TZID=America/New_York:20250226T193000
DTEND;TZID=America/New_York:20250226T223000
DTSTAMP:20260423T160028
CREATED:20250130T092055Z
LAST-MODIFIED:20250130T092055Z
UID:3007-1740598200-1740609000@whatsgoingonincharleston.net
SUMMARY:Xtreme Hip-Hop Step w/ Taya
DESCRIPTION:Step with the AMAZING @tayashanae for a private BWC Event for Fitness Madness!Bring your water and gym shoes!!
URL:https://whatsgoingonincharleston.net/event/xtreme-hip-hop-step-w-taya/
LOCATION:Sustain Nutrition GC
CATEGORIES:Fitness,Goose Creek,Women's Events
ORGANIZER;CN="Shae Black":MAILTO:noreply@facebookmail.com
END:VEVENT
BEGIN:VEVENT
DTSTART;TZID=America/New_York:20250227T090000
DTEND;TZID=America/New_York:20250227T120000
DTSTAMP:20260423T160028
CREATED:20250220T090748Z
LAST-MODIFIED:20250220T090748Z
UID:3491-1740646800-1740657600@whatsgoingonincharleston.net
SUMMARY:Summerville Women In Business Co-Working
DESCRIPTION:Come join Jennifer Robinson (Life and Business Coach) from Summerville Women In Business\, and enjoy some amazing coffee\, laughter\, and networking during this co-working meeting. Open to all female entrepreneurs in the Lowcountry.  \nhttps://www.facebook.com/events/1128534865944852/?event_time_id=1128534905944848
URL:https://whatsgoingonincharleston.net/event/summerville-women-in-business-co-working-2/
LOCATION:650 College Park rd\, Ladson\, SC\, United States\, South Carolina
CATEGORIES:Ladson,Women's Events
ORGANIZER;CN="Hurricane Coffee Company":MAILTO:noreply@facebookmail.com
END:VEVENT
BEGIN:VEVENT
DTSTART;TZID=America/New_York:20250227T203000
DTEND;TZID=America/New_York:20250227T223000
DTSTAMP:20260423T160028
CREATED:20250130T093930Z
LAST-MODIFIED:20250130T093930Z
UID:3017-1740688200-1740695400@whatsgoingonincharleston.net
SUMMARY:Shades of HUNKS at HonkyTonk Saloon (Ladson\, SC) 02/27/25
DESCRIPTION:Don’t Miss The Premier Ladies Night Event! Experience Unforgettable\, Jaw-Dropping Excitement. Secure Your Spot Now! \nShades of HUNKS at HonkyTonk Saloon (Ladson\, SC) 02/27/25 \nTickets On-Sale NOW!Purchase Tickets Here: attraction. \nGet ready for our HUNKS! These spectacular performers will steal the spotlight with their incredible moves and undeniable charisma\, making you feel like the VIP of the year. \n#ShadesOfHunks #HonkyTonkSaloon #LadsonSC #GirlsNightOut #LadiesNightEvent #HunksShow2025 #LiveEntertainment #SouthCarolinaNightlife #MaleRevue #LadsonEvents \n***Tickets are non-refundable. In the event of postponement or rescheduling\, all tickets will be valid for the new
URL:https://whatsgoingonincharleston.net/event/shades-of-hunks-at-honkytonk-saloon-ladson-sc-02-27-25/
LOCATION:HonkyTonk\, 192 College Park Road\, Ladson\, SC 29456\, Ladson\, SC\, 29456\, US
CATEGORIES:Women's Events
ORGANIZER;CN="Eventbrite":MAILTO:noreply@facebookmail.com
END:VEVENT
END:VCALENDAR