BEGIN:VCALENDAR
VERSION:2.0
PRODID:-//What&#039;s Going On In Charleston - ECPv6.15.20//NONSGML v1.0//EN
CALSCALE:GREGORIAN
METHOD:PUBLISH
X-ORIGINAL-URL:https://whatsgoingonincharleston.net
X-WR-CALDESC:Events for What&#039;s Going On In Charleston
REFRESH-INTERVAL;VALUE=DURATION:PT1H
X-Robots-Tag:noindex
X-PUBLISHED-TTL:PT1H
BEGIN:VTIMEZONE
TZID:America/New_York
BEGIN:DAYLIGHT
TZOFFSETFROM:-0500
TZOFFSETTO:-0400
TZNAME:EDT
DTSTART:20240310T070000
END:DAYLIGHT
BEGIN:STANDARD
TZOFFSETFROM:-0400
TZOFFSETTO:-0500
TZNAME:EST
DTSTART:20241103T060000
END:STANDARD
BEGIN:DAYLIGHT
TZOFFSETFROM:-0500
TZOFFSETTO:-0400
TZNAME:EDT
DTSTART:20250309T070000
END:DAYLIGHT
BEGIN:STANDARD
TZOFFSETFROM:-0400
TZOFFSETTO:-0500
TZNAME:EST
DTSTART:20251102T060000
END:STANDARD
BEGIN:DAYLIGHT
TZOFFSETFROM:-0500
TZOFFSETTO:-0400
TZNAME:EDT
DTSTART:20260308T070000
END:DAYLIGHT
BEGIN:STANDARD
TZOFFSETFROM:-0400
TZOFFSETTO:-0500
TZNAME:EST
DTSTART:20261101T060000
END:STANDARD
END:VTIMEZONE
BEGIN:VEVENT
DTSTART;TZID=America/New_York:20250306T090000
DTEND;TZID=America/New_York:20250306T120000
DTSTAMP:20260421T203425
CREATED:20250220T090827Z
LAST-MODIFIED:20250220T090827Z
UID:3493-1741251600-1741262400@whatsgoingonincharleston.net
SUMMARY:Summerville Women In Business Co-Working
DESCRIPTION:Come join Jennifer Robinson (Life and Business Coach) from Summerville Women In Business\, and enjoy some amazing coffee\, laughter\, and networking during this co-working meeting. Open to all female entrepreneurs in the Lowcountry.  \nhttps://www.facebook.com/events/1128534865944852/?event_time_id=1128534875944851
URL:https://whatsgoingonincharleston.net/event/summerville-women-in-business-co-working-3/
LOCATION:650 College Park rd\, Ladson\, SC\, United States\, South Carolina
CATEGORIES:Ladson,Women's Events
ORGANIZER;CN="Hurricane Coffee Company":MAILTO:noreply@facebookmail.com
END:VEVENT
BEGIN:VEVENT
DTSTART;TZID=America/New_York:20250328T193000
DTEND;TZID=America/New_York:20250328T223000
DTSTAMP:20260421T203425
CREATED:20250328T054555Z
LAST-MODIFIED:20250328T054555Z
UID:4076-1743190200-1743201000@whatsgoingonincharleston.net
SUMMARY:BWC 3RD ANNIVERSARY
DESCRIPTION:Join us to celebrate Black Women of Charleston’s 3rd Anniversary with an evening of connection\, inspiration\, and celebration! Enjoy a cocktail meet-up filled with uplifting conversations\, new friendships\, and a toast to the achievements of Black women in Charleston. Come for the drinks\, stay for the community!
URL:https://whatsgoingonincharleston.net/event/bwc-3rd-anniversary/
LOCATION:Montreux Bar and Grill
CATEGORIES:Summerville,Women's Events
ORGANIZER;CN="Shae Black":MAILTO:noreply@facebookmail.com
END:VEVENT
BEGIN:VEVENT
DTSTART;TZID=America/New_York:20250329T190000
DTEND;TZID=America/New_York:20250329T220000
DTSTAMP:20260421T203425
CREATED:20250228T222227Z
LAST-MODIFIED:20250228T222227Z
UID:3731-1743274800-1743285600@whatsgoingonincharleston.net
SUMMARY:Gurl You Got It Women’s Conference 2025
DESCRIPTION:Get ready to be inspired\, empowered\, and uplifted at the Girl You Got It Women’s Conference 2025 – It’s the gathering of the home girls!! ❤️\n\n\nWelcome to the Girl You Got It Women’s Conference 2025! \nJoin us for a day filled with empowerment\, inspiration\, and connection with like-minded women. This in-person event will feature keynote speakers\, interactive workshops\, and networking opportunities to help you unleash your full potential. Whether you’re a student\, professional\, or entrepreneur\, this conference is designed to uplift and motivate you on your journey. Don’t miss out on this incredible opportunity to grow\, learn\, and celebrate girl power together! \nSave the date and get ready to be inspired!
URL:https://whatsgoingonincharleston.net/event/gurl-you-got-it-womens-conference-2025/
LOCATION:1455 Monitor St\, 1455 Monitor Street\, North Charleston\, SC 29405\, North Charleston\, SC\, 29405\, US
CATEGORIES:North Charleston,Women's Events
ATTACH;FMTTYPE=image/jpeg:https://whatsgoingonincharleston.net/wp-content/uploads/2025/02/3731_image.jpg
END:VEVENT
END:VCALENDAR