BEGIN:VCALENDAR
VERSION:2.0
PRODID:-//What&#039;s Going On In Charleston - ECPv6.15.20//NONSGML v1.0//EN
CALSCALE:GREGORIAN
METHOD:PUBLISH
X-ORIGINAL-URL:https://whatsgoingonincharleston.net
X-WR-CALDESC:Events for What&#039;s Going On In Charleston
REFRESH-INTERVAL;VALUE=DURATION:PT1H
X-Robots-Tag:noindex
X-PUBLISHED-TTL:PT1H
BEGIN:VTIMEZONE
TZID:America/New_York
BEGIN:DAYLIGHT
TZOFFSETFROM:-0500
TZOFFSETTO:-0400
TZNAME:EDT
DTSTART:20240310T070000
END:DAYLIGHT
BEGIN:STANDARD
TZOFFSETFROM:-0400
TZOFFSETTO:-0500
TZNAME:EST
DTSTART:20241103T060000
END:STANDARD
BEGIN:DAYLIGHT
TZOFFSETFROM:-0500
TZOFFSETTO:-0400
TZNAME:EDT
DTSTART:20250309T070000
END:DAYLIGHT
BEGIN:STANDARD
TZOFFSETFROM:-0400
TZOFFSETTO:-0500
TZNAME:EST
DTSTART:20251102T060000
END:STANDARD
BEGIN:DAYLIGHT
TZOFFSETFROM:-0500
TZOFFSETTO:-0400
TZNAME:EDT
DTSTART:20260308T070000
END:DAYLIGHT
BEGIN:STANDARD
TZOFFSETFROM:-0400
TZOFFSETTO:-0500
TZNAME:EST
DTSTART:20261101T060000
END:STANDARD
END:VTIMEZONE
BEGIN:VEVENT
DTSTART;TZID=America/New_York:20250328T193000
DTEND;TZID=America/New_York:20250328T223000
DTSTAMP:20260421T193404
CREATED:20250328T054555Z
LAST-MODIFIED:20250328T054555Z
UID:4076-1743190200-1743201000@whatsgoingonincharleston.net
SUMMARY:BWC 3RD ANNIVERSARY
DESCRIPTION:Join us to celebrate Black Women of Charleston’s 3rd Anniversary with an evening of connection\, inspiration\, and celebration! Enjoy a cocktail meet-up filled with uplifting conversations\, new friendships\, and a toast to the achievements of Black women in Charleston. Come for the drinks\, stay for the community!
URL:https://whatsgoingonincharleston.net/event/bwc-3rd-anniversary/
LOCATION:Montreux Bar and Grill
CATEGORIES:Summerville,Women's Events
ORGANIZER;CN="Shae Black":MAILTO:noreply@facebookmail.com
END:VEVENT
END:VCALENDAR