BEGIN:VCALENDAR
VERSION:2.0
PRODID:-//What&#039;s Going On In Charleston - ECPv6.15.20//NONSGML v1.0//EN
CALSCALE:GREGORIAN
METHOD:PUBLISH
X-WR-CALNAME:What&#039;s Going On In Charleston
X-ORIGINAL-URL:https://whatsgoingonincharleston.net
X-WR-CALDESC:Events for What&#039;s Going On In Charleston
REFRESH-INTERVAL;VALUE=DURATION:PT1H
X-Robots-Tag:noindex
X-PUBLISHED-TTL:PT1H
BEGIN:VTIMEZONE
TZID:America/New_York
BEGIN:DAYLIGHT
TZOFFSETFROM:-0500
TZOFFSETTO:-0400
TZNAME:EDT
DTSTART:20240310T070000
END:DAYLIGHT
BEGIN:STANDARD
TZOFFSETFROM:-0400
TZOFFSETTO:-0500
TZNAME:EST
DTSTART:20241103T060000
END:STANDARD
BEGIN:DAYLIGHT
TZOFFSETFROM:-0500
TZOFFSETTO:-0400
TZNAME:EDT
DTSTART:20250309T070000
END:DAYLIGHT
BEGIN:STANDARD
TZOFFSETFROM:-0400
TZOFFSETTO:-0500
TZNAME:EST
DTSTART:20251102T060000
END:STANDARD
BEGIN:DAYLIGHT
TZOFFSETFROM:-0500
TZOFFSETTO:-0400
TZNAME:EDT
DTSTART:20260308T070000
END:DAYLIGHT
BEGIN:STANDARD
TZOFFSETFROM:-0400
TZOFFSETTO:-0500
TZNAME:EST
DTSTART:20261101T060000
END:STANDARD
END:VTIMEZONE
BEGIN:VEVENT
DTSTART;TZID=America/New_York:20250412T130000
DTEND;TZID=America/New_York:20250412T160000
DTSTAMP:20260421T211305
CREATED:20250307T000913Z
LAST-MODIFIED:20250307T000913Z
UID:3857-1744462800-1744473600@whatsgoingonincharleston.net
SUMMARY:Tea Party In The Garden
DESCRIPTION:Ladies grab your gloves\, hats\, dresses & join us for an elegant tea party in the garden. Enjoy a delightful afternoon sipping on teas\, paired with savory tea sandwiches and decadent sweet treats. This event will also feature a selection of local vendors\, showcasing unique handcrafted goods and services. Whether you’re mingling with friends or making new connections\, this gathering promises a day of laughter\, relaxation\, and unforgettable memories in a lush\, welcoming environment!  \nDont wait to grab your Tickets!This Event is sure to sell out! 🎟⬇️⬇️
URL:https://whatsgoingonincharleston.net/event/tea-party-in-the-garden/
LOCATION:Flowertown Bed & Breakfast
CATEGORIES:Summerville,Women's Events
ORGANIZER;CN="Jabria Najay":MAILTO:noreply@facebookmail.com
END:VEVENT
END:VCALENDAR