BEGIN:VCALENDAR
VERSION:2.0
PRODID:-//What&#039;s Going On In Charleston - ECPv6.15.20//NONSGML v1.0//EN
CALSCALE:GREGORIAN
METHOD:PUBLISH
X-WR-CALNAME:What&#039;s Going On In Charleston
X-ORIGINAL-URL:https://whatsgoingonincharleston.net
X-WR-CALDESC:Events for What&#039;s Going On In Charleston
REFRESH-INTERVAL;VALUE=DURATION:PT1H
X-Robots-Tag:noindex
X-PUBLISHED-TTL:PT1H
BEGIN:VTIMEZONE
TZID:America/New_York
BEGIN:DAYLIGHT
TZOFFSETFROM:-0500
TZOFFSETTO:-0400
TZNAME:EDT
DTSTART:20240310T070000
END:DAYLIGHT
BEGIN:STANDARD
TZOFFSETFROM:-0400
TZOFFSETTO:-0500
TZNAME:EST
DTSTART:20241103T060000
END:STANDARD
BEGIN:DAYLIGHT
TZOFFSETFROM:-0500
TZOFFSETTO:-0400
TZNAME:EDT
DTSTART:20250309T070000
END:DAYLIGHT
BEGIN:STANDARD
TZOFFSETFROM:-0400
TZOFFSETTO:-0500
TZNAME:EST
DTSTART:20251102T060000
END:STANDARD
BEGIN:DAYLIGHT
TZOFFSETFROM:-0500
TZOFFSETTO:-0400
TZNAME:EDT
DTSTART:20260308T070000
END:DAYLIGHT
BEGIN:STANDARD
TZOFFSETFROM:-0400
TZOFFSETTO:-0500
TZNAME:EST
DTSTART:20261101T060000
END:STANDARD
END:VTIMEZONE
BEGIN:VEVENT
DTSTART;TZID=America/New_York:20250208T120000
DTEND;TZID=America/New_York:20250208T150000
DTSTAMP:20260421T143210
CREATED:20250131T231612Z
LAST-MODIFIED:20250131T231612Z
UID:3138-1739016000-1739026800@whatsgoingonincharleston.net
SUMMARY:Straight Outta Compton Music Bingo & Brunch
DESCRIPTION:Brunch just got a West Coast upgrade at Rusty Bull Brewery on Saturday\, February 8th\, from 12:00 to 2:00 PM. Join us for West Coast Rap-Themed Music Bingo\, where we’ll be spinning tracks from legends like N.W.A.\, Dr. Dre\, and Kendrick Lamar while you compete for beers and prizes. It’s a laid-back way to spend your Saturday—“California Love” culture.” \nGrab your crew\, hit the brewery\, and let’s make this brunch one for the books. We’ll see you there—because who doesn’t love a little West Coast Rap?
URL:https://whatsgoingonincharleston.net/event/straight-outta-compton-music-bingo-brunch/
LOCATION:3005 W. Montague Ave. Ste 110\, North Charleston\, SC\, United States\, South Carolina 29418
CATEGORIES:Bingo Event,Brunch
ORGANIZER;CN="Rusty Bull Brewing Co.":MAILTO:noreply@facebookmail.com
END:VEVENT
BEGIN:VEVENT
DTSTART;TZID=America/New_York:20250208T140000
DTEND;TZID=America/New_York:20250208T160000
DTSTAMP:20260421T143210
CREATED:20250128T172541Z
LAST-MODIFIED:20250128T172541Z
UID:2764-1739023200-1739030400@whatsgoingonincharleston.net
SUMMARY:BRUNCH & BEATS w/ Tonya Nicole: The Ultimate Pre Galentine's Day Experience
DESCRIPTION:Enjoy a day of Brunch & Beats with your besties!!\n\n\nGet ready to sip on speciality cocktails\, devour delicious brunch bites\, and groove to the live sounds of the amazing Tonya Nicole\, Charleston’s powerhouse singer whose voice will have you feeling all the good vibes. Tonya will serenade you with soulful hits and funky beats that are sure to elevate the mood. But ladies…that’s not all! The party doesn’t stop there—our live DJ\, DJ rDOT will keep the dance floor lit with an electrifying mix of everything from throwback jams to the latest bops\, so you can get loose with it! \nWhether you’re toasting to love\, friendship\, or the incredible ladies in your life\, Brunch & Beats is the ultimate celebration for Galentine’s Day! It’s the perfect mix of delicious food\, catered by the wonderful Chef Jonte of Just Stuff It\, fabulous music\, and unfiltered fun that you and your girls deserve. It’s the new year and it’s the perfect time to celebrate new beginnings! So grab your crew\, put on your fiercest brunch outfit\, and let’s make this Galentine’s Day one to remember! \nGet ready to eat\, drink\, dance\, and celebrate YOU!! \nDon’t miss out—tickets are limited\, so grab yours now and let’s make some magic\, ladies!
URL:https://whatsgoingonincharleston.net/event/brunch-beats-w-tonya-nicole-the-ultimate-pre-galentines-day-experience/
LOCATION:Firefly Distillery\, 4201 Spruill Avenue\, North Charleston\, SC 29405\, North Charleston\, SC\, 29405\, US
CATEGORIES:Brunch,North Charleston,Party
ATTACH;FMTTYPE=image/jpeg:https://whatsgoingonincharleston.net/wp-content/uploads/2025/01/2764_image-scaled.jpg
END:VEVENT
END:VCALENDAR