BEGIN:VCALENDAR
VERSION:2.0
PRODID:-//What&#039;s Going On In Charleston - ECPv6.15.20//NONSGML v1.0//EN
CALSCALE:GREGORIAN
METHOD:PUBLISH
X-ORIGINAL-URL:https://whatsgoingonincharleston.net
X-WR-CALDESC:Events for What&#039;s Going On In Charleston
REFRESH-INTERVAL;VALUE=DURATION:PT1H
X-Robots-Tag:noindex
X-PUBLISHED-TTL:PT1H
BEGIN:VTIMEZONE
TZID:America/New_York
BEGIN:DAYLIGHT
TZOFFSETFROM:-0500
TZOFFSETTO:-0400
TZNAME:EDT
DTSTART:20240310T070000
END:DAYLIGHT
BEGIN:STANDARD
TZOFFSETFROM:-0400
TZOFFSETTO:-0500
TZNAME:EST
DTSTART:20241103T060000
END:STANDARD
BEGIN:DAYLIGHT
TZOFFSETFROM:-0500
TZOFFSETTO:-0400
TZNAME:EDT
DTSTART:20250309T070000
END:DAYLIGHT
BEGIN:STANDARD
TZOFFSETFROM:-0400
TZOFFSETTO:-0500
TZNAME:EST
DTSTART:20251102T060000
END:STANDARD
BEGIN:DAYLIGHT
TZOFFSETFROM:-0500
TZOFFSETTO:-0400
TZNAME:EDT
DTSTART:20260308T070000
END:DAYLIGHT
BEGIN:STANDARD
TZOFFSETFROM:-0400
TZOFFSETTO:-0500
TZNAME:EST
DTSTART:20261101T060000
END:STANDARD
END:VTIMEZONE
BEGIN:VEVENT
DTSTART;TZID=America/New_York:20250301T110000
DTEND;TZID=America/New_York:20250301T143000
DTSTAMP:20260425T102603
CREATED:20250227T194844Z
LAST-MODIFIED:20250227T194844Z
UID:3684-1740826800-1740839400@whatsgoingonincharleston.net
SUMMARY:LILY OF THE VALLEY (LOV) MINISTRIES POWER OF PRAYER BRUNCH
DESCRIPTION:Prayer is the key that unlocks the door.  Please join us as we discuss the power of prayer with demonstration! Wake Up Intercessors!
URL:https://whatsgoingonincharleston.net/event/lily-of-the-valley-lov-ministries-power-of-prayer-brunch/
LOCATION:Emanuel Baptist Church Fellowship Hall\, 106 Boone Street\, Summerville\, SC 29483\, Summerville\, SC\, 29483\, US
CATEGORIES:Brunch,Church,Summerville
ATTACH;FMTTYPE=image/jpeg:https://whatsgoingonincharleston.net/wp-content/uploads/2025/02/3684_image.jpg
END:VEVENT
END:VCALENDAR