BEGIN:VCALENDAR
VERSION:2.0
PRODID:-//What&#039;s Going On In Charleston - ECPv6.15.20//NONSGML v1.0//EN
CALSCALE:GREGORIAN
METHOD:PUBLISH
X-WR-CALNAME:What&#039;s Going On In Charleston
X-ORIGINAL-URL:https://whatsgoingonincharleston.net
X-WR-CALDESC:Events for What&#039;s Going On In Charleston
REFRESH-INTERVAL;VALUE=DURATION:PT1H
X-Robots-Tag:noindex
X-PUBLISHED-TTL:PT1H
BEGIN:VTIMEZONE
TZID:America/New_York
BEGIN:DAYLIGHT
TZOFFSETFROM:-0500
TZOFFSETTO:-0400
TZNAME:EDT
DTSTART:20240310T070000
END:DAYLIGHT
BEGIN:STANDARD
TZOFFSETFROM:-0400
TZOFFSETTO:-0500
TZNAME:EST
DTSTART:20241103T060000
END:STANDARD
BEGIN:DAYLIGHT
TZOFFSETFROM:-0500
TZOFFSETTO:-0400
TZNAME:EDT
DTSTART:20250309T070000
END:DAYLIGHT
BEGIN:STANDARD
TZOFFSETFROM:-0400
TZOFFSETTO:-0500
TZNAME:EST
DTSTART:20251102T060000
END:STANDARD
BEGIN:DAYLIGHT
TZOFFSETFROM:-0500
TZOFFSETTO:-0400
TZNAME:EDT
DTSTART:20260308T070000
END:DAYLIGHT
BEGIN:STANDARD
TZOFFSETFROM:-0400
TZOFFSETTO:-0500
TZNAME:EST
DTSTART:20261101T060000
END:STANDARD
END:VTIMEZONE
BEGIN:VEVENT
DTSTART;TZID=America/New_York:20250126T110000
DTEND;TZID=America/New_York:20250126T133000
DTSTAMP:20260422T054447
CREATED:20250124T065942Z
LAST-MODIFIED:20250124T065942Z
UID:2526-1737889200-1737898200@whatsgoingonincharleston.net
SUMMARY:CHS FiT League | Hike + Trails
DESCRIPTION:CHS FiT League in partnership with MMM FiT Club + The Re-Connect Dating 101 presents Charleston Hike & Trails 🥾!! Come start the year off by elevating your fitness with us. FREE!!  \n>>> https://chsfitleague25.eventbrite.com \nREGISTRATION REQUIRED⛰️ \n#hiking #walkingtrails #groupfitness #community
URL:https://whatsgoingonincharleston.net/event/chs-fit-league-hike-trails/
LOCATION:Registration Required
CATEGORIES:Fitness
ORGANIZER;CN="Keshia Colleton":MAILTO:noreply@facebookmail.com
END:VEVENT
BEGIN:VEVENT
DTSTART;TZID=America/New_York:20250126T140000
DTEND;TZID=America/New_York:20250127T130000
DTSTAMP:20260422T054447
CREATED:20250124T072214Z
LAST-MODIFIED:20250124T072214Z
UID:2584-1737900000-1737982800@whatsgoingonincharleston.net
SUMMARY:Cooper River Cycles Dirt Patrol
DESCRIPTION:Our weekly no drop Mountain Bike Ride. We will regroup every couple of miles.Come on out and meet new people.Helmets are required. \nhttps://www.facebook.com/events/1149370166331658/?event_time_id=1192574172011257
URL:https://whatsgoingonincharleston.net/event/cooper-river-cycles-dirt-patrol/
LOCATION:Wannamaker North Trail
CATEGORIES:Community,Fitness
ORGANIZER;CN="COOPER RIVER CYCLES":MAILTO:noreply@facebookmail.com
END:VEVENT
END:VCALENDAR