BEGIN:VCALENDAR
VERSION:2.0
PRODID:-//What&#039;s Going On In Charleston - ECPv6.15.20//NONSGML v1.0//EN
CALSCALE:GREGORIAN
METHOD:PUBLISH
X-ORIGINAL-URL:https://whatsgoingonincharleston.net
X-WR-CALDESC:Events for What&#039;s Going On In Charleston
REFRESH-INTERVAL;VALUE=DURATION:PT1H
X-Robots-Tag:noindex
X-PUBLISHED-TTL:PT1H
BEGIN:VTIMEZONE
TZID:America/New_York
BEGIN:DAYLIGHT
TZOFFSETFROM:-0500
TZOFFSETTO:-0400
TZNAME:EDT
DTSTART:20240310T070000
END:DAYLIGHT
BEGIN:STANDARD
TZOFFSETFROM:-0400
TZOFFSETTO:-0500
TZNAME:EST
DTSTART:20241103T060000
END:STANDARD
BEGIN:DAYLIGHT
TZOFFSETFROM:-0500
TZOFFSETTO:-0400
TZNAME:EDT
DTSTART:20250309T070000
END:DAYLIGHT
BEGIN:STANDARD
TZOFFSETFROM:-0400
TZOFFSETTO:-0500
TZNAME:EST
DTSTART:20251102T060000
END:STANDARD
BEGIN:DAYLIGHT
TZOFFSETFROM:-0500
TZOFFSETTO:-0400
TZNAME:EDT
DTSTART:20260308T070000
END:DAYLIGHT
BEGIN:STANDARD
TZOFFSETFROM:-0400
TZOFFSETTO:-0500
TZNAME:EST
DTSTART:20261101T060000
END:STANDARD
END:VTIMEZONE
BEGIN:VEVENT
DTSTART;TZID=America/New_York:20250208T100000
DTEND;TZID=America/New_York:20250208T120000
DTSTAMP:20260422T123834
CREATED:20250128T202320Z
LAST-MODIFIED:20250128T202320Z
UID:2848-1739008800-1739016000@whatsgoingonincharleston.net
SUMMARY:Copy of Cupid's Chase 5K Charleston
DESCRIPTION:Lace up your shoes and spread the love! Whether you’re a seasoned runner or just looking for a good time this event is perfect for everyone!\n\n\nJoin us for the 17th annual Cupid’s Chase 5K!\nCommunity Options\, Inc. invites runners\, walkers\, rollers (baby strollers and wheelchairs)\, and sponsors to raise funds that make a difference in the lives of people with disabilities at our annual Cupid’s Chase 5K. Register early to secure your early bird discount and guarantee your Cupid’s Chase shirt! \nAll attendees will be given the opportunity to fundraise. Because of you… we can make a difference! \nRace Info \n– Check-in starts at 8:00 am\, and the race begins at 10:00 am. \n– Join us for an inclusive and memorable experience! Our event is fully accessible. Though this is a pet friendly event\, all pets must always remain on leashes. \n– This is a certified 5K with chipped timing. Results will be posted immediately after the race. \n– Please register early! To guarantee your Cupid’s Chase shirt\, participants must register on or before January 1\, 2024. After January 1st\, race shirts are available while supplies last. \n– Receive an official Cupid’s Chase finisher medal upon completing the race. \n– All participants receive a Cupid’s Chase drawstring bag. \n* Kindly note that all giveaways are available while supplies last. \n– Trophy awards go to the top 3 overall finishers for male and female. \n– First place from each age group will receive an age group medal. (12 and under\, 13-15\, 16-19\, 20-24\, 25-29\, 30-34\, 35-39\, 40-44\, 45-49\, 50-54\, 55-59\, 60-69\, 70 and over) \nGear Check \nThis is a rain or shine event! Remember to dress warmly for the event! \nPlease check this space for updates in case of inclement weather conditions. \nRefund Policy \nKindly note that all registration fees are non-refundable.
URL:https://whatsgoingonincharleston.net/event/copy-of-cupids-chase-5k-charleston/
LOCATION:James Island County\, 871 Riverland Drive\, Charleston\, SC 29412\, Charleston\, SC\, 29412\, US
CATEGORIES:Fitness
ATTACH;FMTTYPE=image/jpeg:https://whatsgoingonincharleston.net/wp-content/uploads/2025/01/2848_image-scaled.jpg
END:VEVENT
END:VCALENDAR