BEGIN:VCALENDAR
VERSION:2.0
PRODID:-//What&#039;s Going On In Charleston - ECPv6.15.20//NONSGML v1.0//EN
CALSCALE:GREGORIAN
METHOD:PUBLISH
X-ORIGINAL-URL:https://whatsgoingonincharleston.net
X-WR-CALDESC:Events for What&#039;s Going On In Charleston
REFRESH-INTERVAL;VALUE=DURATION:PT1H
X-Robots-Tag:noindex
X-PUBLISHED-TTL:PT1H
BEGIN:VTIMEZONE
TZID:America/New_York
BEGIN:DAYLIGHT
TZOFFSETFROM:-0500
TZOFFSETTO:-0400
TZNAME:EDT
DTSTART:20240310T070000
END:DAYLIGHT
BEGIN:STANDARD
TZOFFSETFROM:-0400
TZOFFSETTO:-0500
TZNAME:EST
DTSTART:20241103T060000
END:STANDARD
BEGIN:DAYLIGHT
TZOFFSETFROM:-0500
TZOFFSETTO:-0400
TZNAME:EDT
DTSTART:20250309T070000
END:DAYLIGHT
BEGIN:STANDARD
TZOFFSETFROM:-0400
TZOFFSETTO:-0500
TZNAME:EST
DTSTART:20251102T060000
END:STANDARD
BEGIN:DAYLIGHT
TZOFFSETFROM:-0500
TZOFFSETTO:-0400
TZNAME:EDT
DTSTART:20260308T070000
END:DAYLIGHT
BEGIN:STANDARD
TZOFFSETFROM:-0400
TZOFFSETTO:-0500
TZNAME:EST
DTSTART:20261101T060000
END:STANDARD
END:VTIMEZONE
BEGIN:VEVENT
DTSTART;TZID=America/New_York:20250307T180000
DTEND;TZID=America/New_York:20250307T191500
DTSTAMP:20260420T033311
CREATED:20250306T205213Z
LAST-MODIFIED:20250306T205213Z
UID:3808-1741370400-1741374900@whatsgoingonincharleston.net
SUMMARY:Pop Up Chair Dance Workshop
DESCRIPTION:Join us for a fun chair dance class in celebration of International Women’s Day!\n\n\nWelcome to the Pop Up Chair Dance Workshop! Join us at Amorous Dance Pole and Fitness\, LLC for a fun chair dance class in celebration of International Women’s Day that is all about empowerment\, creativity\, and celebrating the strength and resilience of women. \n\nLearn a fun chair dance routine\nEnjoy a specialty mocktail\nSweet snack included\nOption to be featured in our Online Program\n\nThe class begins with upbeat music to set a positive\, energetic vibe. This dance class is designed to make you feel confident and powerful\, no matter your skill level. The choreography is simple yet expressive\, focusing on fluid body movements\, fun gestures\, and empowering poses. \nBy the end of the class\, you’ll not only have learned some fun dance moves\, but you’ll feel connected to a larger community of women. It’s a celebration of diversity\, self-expression\, and the joy of being unapologetically yourself—an inspiring way to honor International Women’s Day through dance! \nDress code: Anything you can move freely in. Leggings or shorts are fine. Bare feet\, sneakers or dance shoes are also fine. \nPlease arrive 15 minutes early if new to the studio to fill out your liability paperwork. \n(We have a no refund policy so be sure to make it a priority.)
URL:https://whatsgoingonincharleston.net/event/pop-up-chair-dance-workshop/
LOCATION:Amorous Dance Pole and Fitness\, LLC\, 1706 Old Towne Road\, Charleston\, SC 29407\, Charleston\, SC\, 29407\, US
CATEGORIES:Fitness
ATTACH;FMTTYPE=image/png:https://whatsgoingonincharleston.net/wp-content/uploads/2025/03/3808_image.png
END:VEVENT
END:VCALENDAR