BEGIN:VCALENDAR
VERSION:2.0
PRODID:-//What&#039;s Going On In Charleston - ECPv6.15.20//NONSGML v1.0//EN
CALSCALE:GREGORIAN
METHOD:PUBLISH
X-WR-CALNAME:What&#039;s Going On In Charleston
X-ORIGINAL-URL:https://whatsgoingonincharleston.net
X-WR-CALDESC:Events for What&#039;s Going On In Charleston
REFRESH-INTERVAL;VALUE=DURATION:PT1H
X-Robots-Tag:noindex
X-PUBLISHED-TTL:PT1H
BEGIN:VTIMEZONE
TZID:America/New_York
BEGIN:DAYLIGHT
TZOFFSETFROM:-0500
TZOFFSETTO:-0400
TZNAME:EDT
DTSTART:20240310T070000
END:DAYLIGHT
BEGIN:STANDARD
TZOFFSETFROM:-0400
TZOFFSETTO:-0500
TZNAME:EST
DTSTART:20241103T060000
END:STANDARD
BEGIN:DAYLIGHT
TZOFFSETFROM:-0500
TZOFFSETTO:-0400
TZNAME:EDT
DTSTART:20250309T070000
END:DAYLIGHT
BEGIN:STANDARD
TZOFFSETFROM:-0400
TZOFFSETTO:-0500
TZNAME:EST
DTSTART:20251102T060000
END:STANDARD
BEGIN:DAYLIGHT
TZOFFSETFROM:-0500
TZOFFSETTO:-0400
TZNAME:EDT
DTSTART:20260308T070000
END:DAYLIGHT
BEGIN:STANDARD
TZOFFSETFROM:-0400
TZOFFSETTO:-0500
TZNAME:EST
DTSTART:20261101T060000
END:STANDARD
END:VTIMEZONE
BEGIN:VEVENT
DTSTART;TZID=America/New_York:20250329T080000
DTEND;TZID=America/New_York:20250329T110000
DTSTAMP:20260420T033120
CREATED:20250328T060157Z
LAST-MODIFIED:20250328T060157Z
UID:4103-1743235200-1743246000@whatsgoingonincharleston.net
SUMMARY:Fleet Feet Carnes Crossroads Pancake Run
DESCRIPTION:It’s time for pancakes!! And it’s ALWAYS time to run with your Fleet Feet community! \nJoin Asics and your Fleet Feet team as we flip pancakes for you after you complete a 3 mile run. \nYou can even demo a pair of Asics shoes on your
URL:https://whatsgoingonincharleston.net/event/fleet-feet-carnes-crossroads-pancake-run/
LOCATION:Fleet Feet Carnes Crossroads
CATEGORIES:Fitness
ORGANIZER;CN="Fleet Feet Summerville":MAILTO:noreply@facebookmail.com
END:VEVENT
END:VCALENDAR