BEGIN:VCALENDAR
VERSION:2.0
PRODID:-//What&#039;s Going On In Charleston - ECPv6.15.20//NONSGML v1.0//EN
CALSCALE:GREGORIAN
METHOD:PUBLISH
X-ORIGINAL-URL:https://whatsgoingonincharleston.net
X-WR-CALDESC:Events for What&#039;s Going On In Charleston
REFRESH-INTERVAL;VALUE=DURATION:PT1H
X-Robots-Tag:noindex
X-PUBLISHED-TTL:PT1H
BEGIN:VTIMEZONE
TZID:America/New_York
BEGIN:DAYLIGHT
TZOFFSETFROM:-0500
TZOFFSETTO:-0400
TZNAME:EDT
DTSTART:20240310T070000
END:DAYLIGHT
BEGIN:STANDARD
TZOFFSETFROM:-0400
TZOFFSETTO:-0500
TZNAME:EST
DTSTART:20241103T060000
END:STANDARD
BEGIN:DAYLIGHT
TZOFFSETFROM:-0500
TZOFFSETTO:-0400
TZNAME:EDT
DTSTART:20250309T070000
END:DAYLIGHT
BEGIN:STANDARD
TZOFFSETFROM:-0400
TZOFFSETTO:-0500
TZNAME:EST
DTSTART:20251102T060000
END:STANDARD
BEGIN:DAYLIGHT
TZOFFSETFROM:-0500
TZOFFSETTO:-0400
TZNAME:EDT
DTSTART:20260308T070000
END:DAYLIGHT
BEGIN:STANDARD
TZOFFSETFROM:-0400
TZOFFSETTO:-0500
TZNAME:EST
DTSTART:20261101T060000
END:STANDARD
BEGIN:DAYLIGHT
TZOFFSETFROM:-0500
TZOFFSETTO:-0400
TZNAME:EDT
DTSTART:20270314T070000
END:DAYLIGHT
BEGIN:STANDARD
TZOFFSETFROM:-0400
TZOFFSETTO:-0500
TZNAME:EST
DTSTART:20271107T060000
END:STANDARD
END:VTIMEZONE
BEGIN:VEVENT
DTSTART;TZID=America/New_York:20250406T080000
DTEND;TZID=America/New_York:20250406T120000
DTSTAMP:20260422T181918
CREATED:20250331T152901Z
LAST-MODIFIED:20250331T152901Z
UID:4507-1743926400-1743940800@whatsgoingonincharleston.net
SUMMARY:16th Annual Citadel Bulldog Challenge
DESCRIPTION:Get ready for the ultimate test of strength and endurance at the 16th Annual Citadel Bulldog Challenge sponsored by the Semper Fi Society!\n\n\nWelcome to the 16th Annual Citadel Bulldog Challenge!Get ready for a grueling 10K tough obstacle race packed with excitement\, teamwork\, and adrenaline at The Citadel. Mark your calendars for Sunday\, April 6\, 2025\, at 08:00 AM—this is one event you won’t want to miss! \nWhat to Expect:\n💥 Extreme Challenge: Push your limits through a brutal 10-kilometer course filled with grueling obstacles\, team-building exercises\, and brain-teasing puzzles. Whether you’re racing against the clock or working side-by-side with your teammates\, this challenge will test your strength\, endurance\, and problem-solving skills like never before. \n💪 Team Spirit & Grit: Experience the ultimate test of teamwork as you battle through obstacles with fellow competitors. Whether you’re part of a seasoned group or meeting new faces\, this challenge fosters camaraderie\, trust\, and shared determination in the toughest conditions. \n🎉 Spectator Engagement: Not competing? No problem! Cheer on participants\, explore interactive exhibits\, and enjoy a variety of activities designed to keep everyone immersed in the action. \nEvent Highlights:\n🔥 Kickoff Ceremony: Start the day with an electrifying opening ceremony featuring a rousing welcome from our event organizers and a special performance to set the tone for this grit-filled challenge. \n🏆 Brutal 10K Obstacle Course: Conquer multiple demanding obstacles that will push your endurance\, agility\, and mental toughness to the limit. From grueling crawls and towering walls to muddy trenches and team-based challenges\, only the toughest will thrive! \n🥇 Awards & Prizes: Compete for incredible prizes and the ultimate bragging rights! Trophies and certificates will be awarded to the top teams and standout individuals who demonstrate exceptional grit and perseverance. \n🎶 Food\, Music\, & More: Keep your energy up with live music\, food trucks\, and refreshment stations throughout the venue to fuel your adrenaline-pumping day! \nHow to Participate:\nRegistration:\nSecure your spot in the 16th Annual Citadel Bulldog Challenge today! Whether you’re competing with a partner or assembling a team of four\, this is your chance to take on one of the most demanding endurance events at The Citadel! \n\nTeam of 2: Registration fee is $80\nTeam of 4: Registration fee is $128 \n\n🏅 Your registration includes:✅ Access to all obstacle courses✅ Official event T-shirt✅ Finisher medal✅ Refreshments throughout the day \nDon’t wait—spaces fill up fast!For registration inquiries\, contact our event coordinators at kkincaid@student.citadel.edu \nVolunteer & Sponsor Opportunities:\nWant to be part of the action? We’re looking for dedicated volunteers and sponsors to help make this event a massive success. Contact us at kkincaid@student.citadel.edu to get involved! \nSafety :\nYour safety is our top priority. All activities are conducted under strict safety guidelines and supervised by experienced professionals. This event is open to everyone—no matter your fitness level or background\, there’s a challenge here for you! \nSo\, whether you’re a seasoned athlete hungry for a challenge or someone looking for an epic adventure\, the Citadel Bulldog Challenge promises an unforgettable experience. \n \nSave the Date:\n📅 Sunday\, April 6\, 2025 – 08:00 AM📍 The Citadel \n🔥 Unleash your inner Bulldog and rise to the challenge! 🔥
URL:https://whatsgoingonincharleston.net/event/16th-annual-citadel-bulldog-challenge/
LOCATION:The Citadel\, 171 Moultrie Street\, Charleston\, SC 29409\, Charleston\, SC\, 29409\, US
CATEGORIES:Downtown Charleston,Fitness
ATTACH;FMTTYPE=image/jpeg:https://whatsgoingonincharleston.net/wp-content/uploads/2025/03/4507_image-scaled.jpg
END:VEVENT
BEGIN:VEVENT
DTSTART;TZID=America/New_York:20250419T110000
DTEND;TZID=America/New_York:20250419T130000
DTSTAMP:20260422T181919
CREATED:20250331T153006Z
LAST-MODIFIED:20250331T153006Z
UID:4514-1745060400-1745067600@whatsgoingonincharleston.net
SUMMARY:5k Beer Run + Frothy Beard | 2025 SC Brewery Running Series
DESCRIPTION:Join us for a 5k Fun Run event at Frothy Beard. Run\, walk\, or jog a 5k course\, then celebrate at the finish line!\n\n\n\nWe are the South Carolina Brewery Running Series® and we run for beer! \nSee you at Frothy Beard on April 19! 🏃‍♂️🍻 \nJoin us for a 5k-ish fun run that starts and ends at Frothy Beard. Run\, walk\, jog – whatever goes! This event is for all ages and fitness levels. Move at your own pace\, enjoy some fresh air\, and then celebrate with a locally made\, cold craft beverage at the finish line! 🎉 \nEvent Details: \nWhen: April 19 at 11:00 a.m. \nWhere: Frothy Beard in West Ashley \nCourse: We’ve mapped out a 5k-ish course that winds through the local neighborhood\, showing off the best of West Ashley. \n \nCelebrate at the finish line!\nRegistration includes: \n\nA craft beverage (1) of choice from Frothy Beard 🍺\nYour choice of a collector’s pint glass or series swag item from South Carolina Brewery Running Series 🎁\nAccess to the day’s festivities like live music\, food trucks\, raffle prizes\, and giveaways from our partners and sponsors 🎉\nAnd more!\n\nOur Mission:Be active. Have fun. Give back. A portion of all proceeds from this event support local nonprofits\, helping to make a positive impact in our community. 🙌 Over $500k raised nationally to date! This season\, we’re proud to partner with Charleston Animal Society! We’ll present them with a check for a portion of all proceeds from the 2025 season at our last event on December 13th! \nImportant Event Details: \n\nThis is an untimed fun run – all walkers\, runners\, and joggers are welcome! 👟\nOpen course: The event takes place on public roads\, walkways\, and trails so you are responsible for obeying traffic laws and being aware of your surroundings.\nID required: Bring a valid ID or driver’s license. You don’t need to be 21 to participate\, but you must be 21+ to enjoy the beer. Underage participants will receive a token for a non-alcoholic beverage. 🍹\nRain or shine: The event will go on\, no matter the weather! 🌧️☀️\n\nRegistration is limited to the size of the taproom\, so sign up today to guarantee your spot! 💨 \nKeep an eye on your inbox! We’ll send final details and reminders the week of the event\, including anything else you need to know to participate. \nQuestions? Check out our FAQ | Contact us at decker@breweryrunningseries.com \nLet’s run\, drink\, and give back together at Frothy Beard! 🌟 #LifeIsBrewtiful #BreweryRunningSeries #RunForBeer #SCBRS \n\n\n\nThe 2025 South Carolina Brewery Running Series season is presented by Foundation Family Chiropractic.\n\n\n\nBe Active. Have Fun. Give Back.\nA portion of all proceeds from the 2025 season goes to support:
URL:https://whatsgoingonincharleston.net/event/5k-beer-run-frothy-beard-2025-sc-brewery-running-series-2/
LOCATION:Frothy Beard Brewing Company\, 1401 Sam Rittenberg Boulevard\, Charleston\, SC 29407\, Charleston\, SC\, 29407\, US
CATEGORIES:Fitness
ATTACH;FMTTYPE=image/jpeg:https://whatsgoingonincharleston.net/wp-content/uploads/2025/03/4514_image.jpg
END:VEVENT
BEGIN:VEVENT
DTSTART;TZID=America/New_York:20250419T110000
DTEND;TZID=America/New_York:20250419T140000
DTSTAMP:20260422T181919
CREATED:20250331T141141Z
LAST-MODIFIED:20250331T141141Z
UID:4417-1745060400-1745071200@whatsgoingonincharleston.net
SUMMARY:5k Beer Run + Frothy Beard | 2025 SC Brewery Running Series
DESCRIPTION:Join us for a 5k Fun Run event at Frothy Beard.  \nRun\, walk\, or jog a 5k course\, then celebrate at the finish line! \nWe are the South Carolina Brewery Running Series® and we run for beer! \nSee you at Frothy Beard on April 19 ! �� \nJoin us for a 5k-ish fun run that starts and ends at Frothy Beard . Run\, walk\, jog – whatever goes! This event is for all ages and fitness levels. Move at your own pace\, enjoy some fresh air\, and then celebrate with a locally made\, cold craft beverage at the finish line! � \nEvent Details:When: April 19 at 11:00 a.m.Where: Frothy Beard in West AshleyCourse: We’ve mapped out a 5k-ish course that winds through the local neighborhood\, showing off the best of West surroundings.– ID required: Bring a valid ID or driver’s license. You don’t need to be 21 to participate\, but you must be 21+ to enjoy the beer. Underage participants will receive a token for a non-alcoholic beverage . �– Rain or shine: The event will go on\, no matter the weather! �� \nRegistration is limited to the size of the taproom\, so sign up today to guarantee your spot! � \nKeep an eye on your inbox! We’ll send final details and reminders the week of the event\, including anything else you need to know to breweryrunningseries.com \nLet’s run\, drink\, and give back together at Frothy Beard! � #LifeIsBrewtiful #BreweryRunningSeries #RunForBeer #SCBRS
URL:https://whatsgoingonincharleston.net/event/5k-beer-run-frothy-beard-2025-sc-brewery-running-series/
LOCATION:1401 Sam Rittenberg Boulevard\, Charleston\, SC
CATEGORIES:Fitness,West Ashley
ORGANIZER;CN="Eventbrite":MAILTO:noreply@facebookmail.com
END:VEVENT
BEGIN:VEVENT
DTSTART;TZID=America/New_York:20250710T183000
DTEND;TZID=America/New_York:20250710T200000
DTSTAMP:20260422T181919
CREATED:20250611T061231Z
LAST-MODIFIED:20250709T061226Z
UID:19758-1752172200-1752177600@whatsgoingonincharleston.net
SUMMARY:Trap Yoga Charleston! - Women’s Appreciation Event
DESCRIPTION:Meditate • Flex • Twerk … Repeat! Come  Xperience Trap Yoga Charleston brought to you by MMM FiT Club! Bring your tribe + let’s vibe!\n\n\n\nGet ready to experience the ultimate yoga party with Trap Yoga Charleston! \nJoin us on Thursday | JULY 10 at 6:30 PM at Venue 2409 for a one-of-a-kind yoga class that blends traditional yoga poses with meditation-journaling-to smooth R+B & upbeat hip-hop / trap music. \nWe will be blazin’ our ears with the hottest tunes of R&B\, HipHop and Trap music by DJ Scrib! \nOur experienced instructor (Coach Goddess K) will guide you through a dynamic vinyasa flow that will leave you feeling energized and refreshed. \nPersonal massages provided by Something ‘Bout Those Hands 🙌🏾 – Travis Fickens \nMocktails + Cocktails 🍸 provided by Jus A Mor’sel – NaPrell VanBuren \nYou’ll sweat\, stretch\, and twerk to the beat as you move through sequences designed to challenge your body and mind. \nWhether you’re an experienced yogi or a beginner\, you’ll love the inclusive and welcoming atmosphere of our Trap Yoga community. Come as you are and leave feeling empowered and inspired. \nDon’t miss out on this unforgettable event! Reserve your spot today and get ready to turn up the heat at Trap Yoga Charleston.
URL:https://whatsgoingonincharleston.net/event/trap-yoga-charleston-womens-appreciation-event-2/
LOCATION:Venue 2409\, 2409 Mall Drive\, North Charleston\, SC 29406\, North Charleston\, SC\, 29406\, US
CATEGORIES:Fitness
ATTACH;FMTTYPE=image/png:https://whatsgoingonincharleston.net/wp-content/uploads/2025/06/19758_image-5998.png
ORGANIZER;CN="MMM FiT Club":MAILTO:noreply@facebookmail.com
END:VEVENT
BEGIN:VEVENT
DTSTART;TZID=America/New_York:20250822T183000
DTEND;TZID=America/New_York:20250822T203000
DTSTAMP:20260422T181919
CREATED:20250822T084205Z
LAST-MODIFIED:20250822T084205Z
UID:29570-1755887400-1755894600@whatsgoingonincharleston.net
SUMMARY:A Little Self-Care Goes a Long Way: Paint & Chat Edition
DESCRIPTION:Come relax\, paint\, and chat with us for a little self-care session – you deserve it!\n\n\nWelcome to A Little Self-Care Goes a Long Way: Paint & Chat Edition! Join us for a relaxing and fun evening of painting and chatting at the Fairfield Inn & Suites Charleston North/University Area. Let’s unwind\, express our creativity\, and connect with others in a laid-back setting. No painting experience needed\, just bring your positive vibes and willingness to have a good time. Come and enjoy a little self-care with us! $10 off for the first 20 tickets sold using Promo Code Early.
URL:https://whatsgoingonincharleston.net/event/a-little-self-care-goes-a-long-way-paint-chat-edition/
LOCATION:Fairfield Inn & Suites Charleston North/University Area\, 2600 Elms Center Road\, North Charleston\, SC 29406\, North Charleston\, SC\, 29406\, US
CATEGORIES:Arts & Crafts/Visual Arts,Health & Wellness,North Charleston
ATTACH;FMTTYPE=image/png:https://whatsgoingonincharleston.net/wp-content/uploads/2025/08/29570_image.png
END:VEVENT
BEGIN:VEVENT
DTSTART;TZID=America/New_York:20250828T180000
DTEND;TZID=America/New_York:20250828T200000
DTSTAMP:20260422T181919
CREATED:20250822T083951Z
LAST-MODIFIED:20250829T083954Z
UID:29566-1756404000-1756411200@whatsgoingonincharleston.net
SUMMARY:Pilates\, Prosecco & Pampering Vol. 3
DESCRIPTION:Pilates Pamela and Youth Lab Med Spa are joining forces to bring you an amazing mat pilates workout followed by some self-care shopping.\n\n\nJoin Pilates Pamela and Youth Lab Medical Spa for an evening of Pilates and self-care. You will have a chance to learn more about Youth Lab Medical Spa\, what they have to offer\, and shop their products at a discounted rate.
URL:https://whatsgoingonincharleston.net/event/pilates-prosecco-pampering-vol-3/
LOCATION:Youth Lab Medical Spa\, 424 Brighton Park Boulevard\, Summerville\, SC 29486\, Summerville\, SC\, 29486\, US
CATEGORIES:Fitness
ATTACH;FMTTYPE=image/png:https://whatsgoingonincharleston.net/wp-content/uploads/2025/08/29566_image.png
END:VEVENT
BEGIN:VEVENT
DTSTART;TZID=America/New_York:20260221T110000
DTEND;TZID=America/New_York:20260221T123000
DTSTAMP:20260422T181919
CREATED:20260128T133524Z
LAST-MODIFIED:20260218T133531Z
UID:37553-1771671600-1771677000@whatsgoingonincharleston.net
SUMMARY:PULSE & PUPS
DESCRIPTION:Join PULSE & PUPS! 45-min barre-inspired class\, meet rescue dogs\, enjoy matcha\, win a pair of DUNK socks\, support a great cause.\n\n\nGet ready to sweat\, sip\, and snuggle at PULSE & PUPS\, a fun and heartwarming event at The Garden Charles Towne Fermentory! This unique experience combines a 45-minute barre-inspired PULSE class with the joy of meeting adoptable dogs from Bridge Between Animal Rescue. \nWhile you move and strengthen your body\, you’ll also be supporting a great cause—a portion of the event proceeds will benefit the rescue organization. After class\, enjoy a matcha from matcha bar and connect with DUNK Mvmt\, who will be giving away one free pair of socks to a lucky attendee. \nWhether you’re a fitness enthusiast\, a dog lover\, or simply looking for a fun way to give back\, PULSE & PUPS offers the perfect combination of movement\, furry friends\, and community spirit. Don’t miss out on this unique opportunity to work out\, spread love\, and support rescue dogs!
URL:https://whatsgoingonincharleston.net/event/pulse-pups/
LOCATION:The Garden by Charles Towne Fermentory\, 1331 Ashley River Road\, Charleston\, SC 29407\, Charleston\, SC\, 29407\, US
CATEGORIES:Fitness
ATTACH;FMTTYPE=image/jpeg:https://whatsgoingonincharleston.net/wp-content/uploads/2026/01/37553_image.jpg
END:VEVENT
END:VCALENDAR