BEGIN:VCALENDAR
VERSION:2.0
PRODID:-//What&#039;s Going On In Charleston - ECPv6.15.20//NONSGML v1.0//EN
CALSCALE:GREGORIAN
METHOD:PUBLISH
X-ORIGINAL-URL:https://whatsgoingonincharleston.net
X-WR-CALDESC:Events for What&#039;s Going On In Charleston
REFRESH-INTERVAL;VALUE=DURATION:PT1H
X-Robots-Tag:noindex
X-PUBLISHED-TTL:PT1H
BEGIN:VTIMEZONE
TZID:America/New_York
BEGIN:DAYLIGHT
TZOFFSETFROM:-0500
TZOFFSETTO:-0400
TZNAME:EDT
DTSTART:20240310T070000
END:DAYLIGHT
BEGIN:STANDARD
TZOFFSETFROM:-0400
TZOFFSETTO:-0500
TZNAME:EST
DTSTART:20241103T060000
END:STANDARD
BEGIN:DAYLIGHT
TZOFFSETFROM:-0500
TZOFFSETTO:-0400
TZNAME:EDT
DTSTART:20250309T070000
END:DAYLIGHT
BEGIN:STANDARD
TZOFFSETFROM:-0400
TZOFFSETTO:-0500
TZNAME:EST
DTSTART:20251102T060000
END:STANDARD
BEGIN:DAYLIGHT
TZOFFSETFROM:-0500
TZOFFSETTO:-0400
TZNAME:EDT
DTSTART:20260308T070000
END:DAYLIGHT
BEGIN:STANDARD
TZOFFSETFROM:-0400
TZOFFSETTO:-0500
TZNAME:EST
DTSTART:20261101T060000
END:STANDARD
END:VTIMEZONE
BEGIN:VEVENT
DTSTART;TZID=America/New_York:20250207T200000
DTEND;TZID=America/New_York:20250207T234500
DTSTAMP:20260422T124447
CREATED:20250128T165541Z
LAST-MODIFIED:20250128T165541Z
UID:2715-1738958400-1738971900@whatsgoingonincharleston.net
SUMMARY:A Red & Black Affair(Pre Valentines Party)
DESCRIPTION:Get ready to paint the town red and black at our Pre-Valentine’s Party – A Red & Black Affair!\n\n\nWelcome to A Red & Black Affair (Pre-Valentines Party)! Come join us at The Purple Buffalo for a night of fun\, music\, and mingling. Singles will wear black attire\, and if you’re taken\, wear red. We have a Couples Beer Pong tournament with a cash prize; it’s $20 to enter\, and the winner takes all. This will be conducted with official beer pong league rules. If you don’t have a partner\, just look for someone in a black shirt and team up. We also have live performances from Gent Jack\, Savannah Leigh\, Error 404\, Sunset & The Black Sheep\, headlined by Sill Crow. I look forward to seeing everyone for a night to remember.  \n \nTickets: $10 in advance / $15 at the door.
URL:https://whatsgoingonincharleston.net/event/a-red-black-affairpre-valentines-party/
LOCATION:The Purple Buffalo\, 2702 Azalea Dr\, North Charleston\, SC 29405\, North Charleston\, SC\, 29405\, US
CATEGORIES:North Charleston,Party
ATTACH;FMTTYPE=image/jpeg:https://whatsgoingonincharleston.net/wp-content/uploads/2025/01/2715_image.jpg
END:VEVENT
END:VCALENDAR